BEGIN:VCALENDAR
VERSION:2.0
PRODID:-//ChamberMaster//Event Calendar 2.0//EN
METHOD:PUBLISH
X-PUBLISHED-TTL:P3D
REFRESH-INTERVAL:P3D
CALSCALE:GREGORIAN
BEGIN:VEVENT
DTSTART:20150801T160000Z
DTEND:20150801T180000Z
X-MICROSOFT-CDO-ALLDAYEVENT:FALSE
SUMMARY:Nature Tour-Nature Interpretive Center
DESCRIPTION:The Nature Tour explores the ecology and natural history of the area. This is a two hour docent led tour that covers approximately 1.5 miles. Please wear comfortable walking shoes!
X-ALT-DESC;FMTTYPE=text/html:<span style="font-size:14px\;">The Nature Tour explores the ecology and natural history of the area. This is a two hour docent led tour that covers approximately 1.5 miles. Please wear comfortable walking shoes!</span>
LOCATION:Nature Interpretive Center 34558 Scenic Dr. Dana Point\, CA 92629
UID:e.2189.2425
SEQUENCE:3
DTSTAMP:20260423T063317Z
URL:https://business.danapointchamber.com/events/details/nature-tour-nature-interpretive-center-08-01-2015-2425
END:VEVENT

END:VCALENDAR
