BEGIN:VCALENDAR
VERSION:2.0
PRODID:-//ChamberMaster//Event Calendar 2.0//EN
METHOD:PUBLISH
X-PUBLISHED-TTL:P3D
REFRESH-INTERVAL:P3D
CALSCALE:GREGORIAN
BEGIN:VEVENT
DTSTART:20150604T183000Z
DTEND:20150604T200000Z
X-MICROSOFT-CDO-ALLDAYEVENT:FALSE
SUMMARY:Networking at Noon: Original Olamendi's
DESCRIPTION:We invite you to join us for Networking at Noon at Original Olamendi's. Enjoy a delicious lunch with your fellow Chamber members while staring at the beautiful Pacific Ocean - what could be better than that?\n\n\n\nThis event is open to members and non-members to attend. Attendees will have the opportunity to network\, discuss their business with others and generate new business leads - while supporting a great chamber member restaurant!
X-ALT-DESC;FMTTYPE=text/html:<p style="box-sizing: border-box\; margin: 0px 0px 10px\; font-size: 16px\; line-height: 1.7\; color: rgb(86\, 86\, 86)\; font-family: Arimo\, sans-serif\;">We invite you to join us for Networking at Noon at Original Olamendi&#39\;s. Enjoy a delicious lunch with your fellow Chamber members while staring at the beautiful Pacific Ocean - what could be better than that?<br />\n<br />\nThis event is open to members and non-members to attend. Attendees will have the opportunity to network\, discuss their business with others and generate new business leads - while supporting a great chamber member restaurant!</p>\n
LOCATION:Original Olamendi's 34664 Pacific Coast Hwy\, Dana Point\, CA 92624
UID:e.2189.104
SEQUENCE:3
DTSTAMP:20260423T025307Z
URL:https://business.danapointchamber.com/events/details/networking-at-noon-original-olamendi-s-06-04-2015-104
END:VEVENT

END:VCALENDAR
