BEGIN:VCALENDAR
VERSION:2.0
PRODID:-//ChamberMaster//Event Calendar 2.0//EN
METHOD:PUBLISH
X-PUBLISHED-TTL:P3D
REFRESH-INTERVAL:P3D
CALSCALE:GREGORIAN
BEGIN:VEVENT
DTSTART:20230825T000000Z
DTEND:20230825T030000Z
X-MICROSOFT-CDO-ALLDAYEVENT:FALSE
SUMMARY:OC Parks Summer Concert
DESCRIPTION:The County of Orange and OC Parks are proud to present the annual OC Parks Summer Concert Series. This free outdoor concert is coming to Bluff Park at Salt Creek Beach on Thursday\, August 24 from 5:00-8:00pm. Live music begins at 6:00pm.  \n\n\n\nBand: Flashback Heart Attack\n\n\n\nOpen to all ages and free to attend with free parking. Food trucks will serve a variety of cuisines and a beer and wine garden will be available to those 21 and over.
X-ALT-DESC;FMTTYPE=text/html:<br />\n<span style="color:#000000\;"><span style="font-family:verdana\;"><span style="font-size:14px\;">The County of Orange and OC Parks are proud to present the annual OC Parks Summer Concert Series. This free outdoor concert is coming to Bluff Park at Salt Creek Beach on Thursday\, August 24 from 5:00-8:00pm. Live music begins at 6:00pm.&nbsp\;&nbsp\;<br />\n<br />\nBand: Flashback Heart Attack<br />\n<br />\nOpen to all ages and free to attend with free parking. Food trucks will serve a variety of cuisines and a beer and wine garden will be available to those 21 and over.&nbsp\;&nbsp\;</span></span></span><br />\n<br />\n<br />\n<br />\n&nbsp\;
LOCATION:Bluff Park at Salt Creek Beach 33333 S. PCH Dana Point\, CA 92629
UID:e.2189.14471
SEQUENCE:3
DTSTAMP:20260424T133612Z
URL:https://business.danapointchamber.com/events/details/oc-parks-summer-concert-14471
END:VEVENT

END:VCALENDAR
