BEGIN:VCALENDAR
VERSION:2.0
PRODID:-//ChamberMaster//Event Calendar 2.0//EN
METHOD:PUBLISH
X-PUBLISHED-TTL:P3D
REFRESH-INTERVAL:P3D
CALSCALE:GREGORIAN
BEGIN:VEVENT
DTSTART:20210904T010000Z
DTEND:20210904T050000Z
X-MICROSOFT-CDO-ALLDAYEVENT:FALSE
SUMMARY:OC Parks Sunset Cinema Film Series
DESCRIPTION:The County of Orange and OC Parks are pleased to announce the return of the annual Sunset Cinema film series. All events will include free parking with food and drink available for purchase. Spend summer evenings in a family-friendly environment with movie screenings at parks across Orange County. \n\n\n\nGuests of all ages are invited to enjoy recent favorites and popular classics throughout the summer. The event sites open at 6 p.m. and the movies begin at approximately 8 p.m. after sundown.\n\n\n\nFriday\, September 3\n\nMovie: Dolphin Tale (2011)
X-ALT-DESC;FMTTYPE=text/html:<span style="font-size:14px\;"><span style="color:#000000\;"><span style="font-family: Lato\, sans-serif\;">The County of Orange and OC Parks are pleased to announce the return of the annual Sunset Cinema film series.&nbsp\;All events will include free parking with food and drink available for purchase. Spend summer evenings in a family-friendly environment with movie screenings at parks&nbsp\;</span>across Orange County.&nbsp\;<br />\n<br />\n<span style="font-family: Lato\, sans-serif\;">Guests of all ages are invited to enjoy recent favorites and popular classics throughout the summer. The event sites open at 6 p.m. and the movies begin at approximately 8 p.m. after sundown.</span></span></span><br />\n<br />\n<strong><span style="font-size:14px\;"><span style="color:#000000\;">Friday\, September 3<br />\nMovie: Dolphin Tale (2011)&nbsp\;</span></span></strong>
LOCATION:Bluff Park at Salt Creek Beach 33333 S. Pacific Coast Highway Dana Point\, CA 92629
UID:e.2189.13350
SEQUENCE:3
DTSTAMP:20260426T030057Z
URL:https://business.danapointchamber.com/events/details/oc-parks-sunset-cinema-film-series-13350
END:VEVENT

END:VCALENDAR
