BEGIN:VCALENDAR
VERSION:2.0
PRODID:-//ChamberMaster//Event Calendar 2.0//EN
METHOD:PUBLISH
X-PUBLISHED-TTL:P3D
REFRESH-INTERVAL:P3D
CALSCALE:GREGORIAN
BEGIN:VEVENT
DTSTART:20260510T000000Z
DTEND:20260510T020000Z
X-MICROSOFT-CDO-ALLDAYEVENT:FALSE
SUMMARY:OC Sober Gals Boat Party
DESCRIPTION:OC Sober Gals: Sunset Sail Boat Party \n\n\n\nJoin us for the ultimate golden hour on the water. We're setting sail for a dreamy evening filled with views\, good vibes\, and even better company. \n\n\n\n**Saturday\, May 9th** \n\n**5:00 PM   7:00 PM** \n\n\n\nThink glowing skies\, salty air\, and a space to connect *beyond small talk* with an amazing group of girls. \n\n\n\nWe'll have: \n\nRefreshing drinks & mocktails \n\nLite bites + snacks \n\nMusic\, mingling\, and sunset magic \n\n\n\nSpots are limited\, so be sure to RSVP! Purchase Tickets
X-ALT-DESC;FMTTYPE=text/html:<span style="font-family:verdana\;"><span style="color: rgba(0\, 0\, 0\, 0.8)\; font-size: 18px\;">OC Sober Gals: Sunset Sail Boat Party</span><span style="color: rgba(0\, 0\, 0\, 0.8)\; font-size: 18px\;"> </span><br />\n<br />\n<span style="color: rgba(0\, 0\, 0\, 0.8)\; font-size: 18px\;">Join us for the ultimate golden hour on the water.&nbsp\;</span><span style="color: rgba(0\, 0\, 0\, 0.8)\; font-size: 18px\;">We&rsquo\;re setting sail for a dreamy evening filled with views\, good vibes\, and even better company.</span><span style="color: rgba(0\, 0\, 0\, 0.8)\; font-size: 18px\;"> </span><br />\n<br />\n<span style="color: rgba(0\, 0\, 0\, 0.8)\; font-size: 18px\;">**Saturday\, May 9th**</span><span style="color: rgba(0\, 0\, 0\, 0.8)\; font-size: 18px\;"> </span><br />\n<span style="color: rgba(0\, 0\, 0\, 0.8)\; font-size: 18px\;">**5:00 PM &ndash\; 7:00 PM**</span><span style="color: rgba(0\, 0\, 0\, 0.8)\; font-size: 18px\;"> </span><br />\n<br />\n<span style="color: rgba(0\, 0\, 0\, 0.8)\; font-size: 18px\;">Think glowing skies\, salty air\, and a space to connect *beyond small talk* with an amazing group of girls.&nbsp\;</span><br />\n<br />\n<span style="color: rgba(0\, 0\, 0\, 0.8)\; font-size: 18px\;">We&rsquo\;ll have:</span><span style="color: rgba(0\, 0\, 0\, 0.8)\; font-size: 18px\;"> </span><br />\n<span style="color: rgba(0\, 0\, 0\, 0.8)\; font-size: 18px\;">Refreshing drinks &amp\; mocktails</span><span style="color: rgba(0\, 0\, 0\, 0.8)\; font-size: 18px\;"> </span><br />\n<span style="color: rgba(0\, 0\, 0\, 0.8)\; font-size: 18px\;">Lite bites + snacks</span><span style="color: rgba(0\, 0\, 0\, 0.8)\; font-size: 18px\;"> </span><br />\n<span style="color: rgba(0\, 0\, 0\, 0.8)\; font-size: 18px\;">Music\, mingling\, and sunset magic</span><span style="color: rgba(0\, 0\, 0\, 0.8)\; font-size: 18px\;"> </span><br />\n<br />\n<span style="color: rgba(0\, 0\, 0\, 0.8)\; font-size: 18px\;">Spots are limited\, so be sure to RSVP! <a href="https://partiful.com/e/8GurPjPCEbVdYfRY9I0O">Purchase Tickets</a></span></span>
LOCATION:Lake Mission Viejo 22555 Olympiad Rd\, Mission Viejo\, CA
UID:e.2189.17558
SEQUENCE:3
DTSTAMP:20260421T113106Z
URL:https://business.danapointchamber.com/events/details/oc-sober-gals-boat-party-17558
END:VEVENT

END:VCALENDAR
