BEGIN:VCALENDAR
VERSION:2.0
PRODID:-//ChamberMaster//Event Calendar 2.0//EN
METHOD:PUBLISH
X-PUBLISHED-TTL:P3D
REFRESH-INTERVAL:P3D
CALSCALE:GREGORIAN
BEGIN:VEVENT
DTSTART:20180303T013000Z
DTEND:20180304T053000Z
X-MICROSOFT-CDO-ALLDAYEVENT:FALSE
SUMMARY:Ocean Institute Jazz Festival
DESCRIPTION:Just in time for a special holiday gift\, tickets are now on sale for the highly popular Ocean Institute Jazz Festival! March 2nd and 3rd\, 2018 will bring two extraordinary evenings of incredible food and world-class Jazz. Guests attending the Ocean Institute Jazz Festival will enjoy fantastic jazz performances\, five-star dining experiences and hosted bars all while helping to bring inspiring marine science education programs to students. Proceeds from the 2018 Jazz Festival directly support the Ocean Institute Adopt-a-Class Program which brings over 10\,000 underserved students a year to the Ocean Institute for an inspiring experiential field trip.
X-ALT-DESC;FMTTYPE=text/html:Just in time for a special holiday gift\, tickets are now on sale for the highly popular Ocean Institute Jazz Festival! March 2nd and 3rd\, 2018 will bring two extraordinary evenings of incredible food and world-class Jazz. Guests attending the Ocean Institute Jazz Festival will enjoy fantastic jazz performances\, five-star dining experiences and hosted bars all while helping to bring inspiring marine science education programs to students. Proceeds from the 2018 Jazz Festival directly support the Ocean Institute Adopt-a-Class Program which brings over 10\,000 underserved students a year to the Ocean Institute for an inspiring experiential field trip.
LOCATION:Ocean Institute 24200 Dana Point Harbor Drive Dana Point\, CA 92629
UID:e.2189.6038
SEQUENCE:3
DTSTAMP:20260424T233345Z
URL:https://business.danapointchamber.com/events/details/ocean-institute-jazz-festival-6038
END:VEVENT

END:VCALENDAR
