BEGIN:VCALENDAR
VERSION:2.0
PRODID:-//ChamberMaster//Event Calendar 2.0//EN
METHOD:PUBLISH
X-PUBLISHED-TTL:P3D
REFRESH-INTERVAL:P3D
CALSCALE:GREGORIAN
BEGIN:VEVENT
DTSTART:20180727T210000Z
DTEND:20180727T233000Z
X-MICROSOFT-CDO-ALLDAYEVENT:FALSE
SUMMARY:Ocean Institute Kayak Harbor Tour
DESCRIPTION:Explore the Dana Point Harbor with the Ocean Institute This program includes: - 2 hour interactive tour around the Dana Point Harbor - A history of the harbor and its unique ecosystem - Admission to the Ocean Institute - Ocean Institute baseball cap and bag All experience levels are welcome. Must be at least 12 years old to participate. Guests under 18 must be accompanied by an adult.
X-ALT-DESC;FMTTYPE=text/html:Explore the Dana Point Harbor with the Ocean Institute This program includes: - 2 hour interactive tour around the Dana Point Harbor - A history of the harbor and its unique ecosystem - Admission to the Ocean Institute - Ocean Institute baseball cap and bag All experience levels are welcome. Must be at least 12 years old to participate. Guests under 18 must be accompanied by an adult.
LOCATION:Ocean Institute 24200 Dana Point Harbor Drive Dana Point CA 92629
UID:e.2189.8866
SEQUENCE:3
DTSTAMP:20260424T161808Z
URL:https://business.danapointchamber.com/events/details/ocean-institute-kayak-harbor-tour-8866
END:VEVENT

END:VCALENDAR
