BEGIN:VCALENDAR
VERSION:2.0
PRODID:-//ChamberMaster//Event Calendar 2.0//EN
METHOD:PUBLISH
X-PUBLISHED-TTL:P3D
REFRESH-INTERVAL:P3D
CALSCALE:GREGORIAN
BEGIN:VEVENT
DTSTART:20231207T013000Z
DTEND:20231207T043000Z
X-MICROSOFT-CDO-ALLDAYEVENT:FALSE
SUMMARY:Ocean Institute Town Hall
DESCRIPTION:Join Ocean Institute for a milestone event\, the inaugural Townhall: a Seaside Chat\, on Wednesday\, December 6 at 6PM\, where the Ocean Institute's esteemed Board members and leadership team will engage with our community and share exciting updates. Collie James\, new Board Chair\, will offer insights into the Ocean Institute's promising future in marine education and conservation.\n\n\n\nSchedule: \n\n5:30-6:00pm Meet & Mingle\n\n6:00-7:30pm Panel Presentation & Q&A \n\n7:30-8:30pm Socialize & Connect\n\n\n\nFor more information and to RSVP\, click here
X-ALT-DESC;FMTTYPE=text/html:<br />\n<span style="font-size:14px\;"><span style="font-family:verdana\;"><span style="text-align: center\;"><span style="color:#000000\;">Join Ocean Institute for a milestone event\, the inaugural Townhall: a Seaside Chat\, on Wednesday\, December 6 at 6PM\, where the Ocean Institute&rsquo\;s esteemed Board members and leadership team will engage with our community and share exciting updates. Collie James\, new Board Chair\, will offer insights into the Ocean Institute&rsquo\;s promising future in marine education and conservation.<br />\n<br />\nSchedule:&nbsp\;<br />\n5:30-6:00pm Meet &amp\; Mingle<br />\n6:00-7:30pm Panel Presentation &amp\; Q&amp\;A&nbsp\;<br />\n7:30-8:30pm Socialize &amp\; Connect<br />\n<br />\nFor more information and to RSVP\, </span><a href="https://oceaninstitute.org/event/ocean-institute-town-hall-a-seaside-chat/"><span style="color:#0000FF\;">click here</span></a></span></span></span><br />\n&nbsp\;
LOCATION:Ocean Institute 24200 Dana Point Harbor Dr. Dana Point\, CA 92629
UID:e.2189.14623
SEQUENCE:3
DTSTAMP:20260424T092526Z
URL:https://business.danapointchamber.com/events/details/ocean-institute-town-hall-14623
END:VEVENT

END:VCALENDAR
