BEGIN:VCALENDAR
VERSION:2.0
PRODID:-//ChamberMaster//Event Calendar 2.0//EN
METHOD:PUBLISH
X-PUBLISHED-TTL:P3D
REFRESH-INTERVAL:P3D
CALSCALE:GREGORIAN
BEGIN:VEVENT
DTSTART:20171215T170000Z
DTEND:20171231T203000Z
X-MICROSOFT-CDO-ALLDAYEVENT:FALSE
SUMMARY:Ocean Institute Whale Watching Eco-Tours
DESCRIPTION:Join us at the Ocean Institute on our weekend cruises as we locate Gray Whales on their round-trip migration from their Bering Sea feeding grounds to Baja California. Search for sea lions\, dolphins\, migrating birds\, and more! For a limited time get 2 tickets for $40 to celebrate our 40th Anniversary! Discount Code: 40YEARSALE
X-ALT-DESC;FMTTYPE=text/html:Join us at the Ocean Institute on our weekend cruises as we locate Gray Whales on their round-trip migration from their Bering Sea feeding grounds to Baja California. Search for sea lions\, dolphins\, migrating birds\, and more! For a limited time get 2 tickets for $40 to celebrate our 40th Anniversary! Discount Code: 40YEARSALE
LOCATION:24200 DANA POINT HARBOR DRIVE\, DANA POINT\, CA 92629
UID:e.2189.6004
SEQUENCE:3
DTSTAMP:20260425T025243Z
URL:https://business.danapointchamber.com/events/details/ocean-institute-whale-watching-eco-tours-6004
END:VEVENT

END:VCALENDAR
