BEGIN:VCALENDAR
VERSION:2.0
PRODID:-//ChamberMaster//Event Calendar 2.0//EN
METHOD:PUBLISH
X-PUBLISHED-TTL:P3D
REFRESH-INTERVAL:P3D
CALSCALE:GREGORIAN
BEGIN:VEVENT
DTSTART:20170822T220000Z
DTEND:20170823T000000Z
X-MICROSOFT-CDO-ALLDAYEVENT:FALSE
SUMMARY:Ocean Water Quality Subcommittee Meeting
DESCRIPTION:
X-ALT-DESC;FMTTYPE=text/html:
LOCATION:Dana Point City Hall - Suite 212 33282 Golden Lantern Dana Point\, California 92629
UID:e.2189.5655
SEQUENCE:3
DTSTAMP:20260425T103715Z
URL:https://business.danapointchamber.com/events/details/ocean-water-quality-subcommittee-meeting-5655
END:VEVENT

END:VCALENDAR
