BEGIN:VCALENDAR
VERSION:2.0
PRODID:-//ChamberMaster//Event Calendar 2.0//EN
METHOD:PUBLISH
X-PUBLISHED-TTL:P3D
REFRESH-INTERVAL:P3D
CALSCALE:GREGORIAN
BEGIN:VEVENT
DTSTART;VALUE=DATE:20160828
DTEND;VALUE=DATE:20160829
TRANSP:TRANSPARENT
X-MICROSOFT-CDO-ALLDAYEVENT:TRUE
SUMMARY:Ohana Music Festival
DESCRIPTION:This year marks the debut of OHANA\, a two-day music festival at Doheny State Beach in Dana Point\, CA.  Festival general admission allows roaming throughout the lush grass areas of Doheny State Beach\, right off the shore of the Pacific Ocean\, touching the sand.  Craft beer\, wine\, and signature cocktails\, as well as artisan food options from local restaurants and food trucks will be available all day long.  \n\nIn addition to offering a full day in the sun with a diverse music lineup\, Ohana will donate a portion of proceeds to the San Onofre Parks Foundation\, a California non-profit that cooperatively works with the California State Parks to develop\, preserve and enhance the recreation and experience of California's unique and beautiful coastal parks.
X-ALT-DESC;FMTTYPE=text/html:This year marks the debut of OHANA\, a two-day music festival at Doheny State Beach in Dana Point\, CA. &nbsp\;Festival general admission allows roaming throughout the lush grass areas of Doheny State Beach\, right off the shore of the Pacific Ocean\, touching the sand. &nbsp\;Craft beer\, wine\, and signature cocktails\, as well as artisan food options from local restaurants and food trucks will be available all day long. &nbsp\;<br />\nIn addition to offering a full day in the sun with a diverse music lineup\, Ohana will donate a portion of proceeds to the San Onofre Parks Foundation\, a California non-profit that cooperatively works with the California State Parks to develop\, preserve and enhance the recreation and experience of California&#39\;s unique and beautiful coastal parks.&nbsp\;
LOCATION:Doheny State Beach 25300 Dana Point Harbor Dr Dana Point\, CA 92629
UID:e.2189.4716
SEQUENCE:3
DTSTAMP:20260426T033140Z
URL:https://business.danapointchamber.com/events/details/ohana-music-festival-08-28-2016-4716
END:VEVENT

END:VCALENDAR
