BEGIN:VCALENDAR
VERSION:2.0
PRODID:-//ChamberMaster//Event Calendar 2.0//EN
METHOD:PUBLISH
X-PUBLISHED-TTL:P3D
REFRESH-INTERVAL:P3D
CALSCALE:GREGORIAN
BEGIN:VEVENT
DTSTART:20160921T190000Z
DTEND:20160921T230000Z
X-MICROSOFT-CDO-ALLDAYEVENT:FALSE
SUMMARY:Outlets at San Clemente Job Fair
DESCRIPTION:Apply for more than 200 positions available at Outlets at San Clemente retailers and eateries. More than 20 locations are seeking professional\, enthusiastic individuals for Full-Time\, Part-Time and Seasonal Positions. View current openings at ShopOSC.com/careers
X-ALT-DESC;FMTTYPE=text/html:Apply for more than 200 positions available at Outlets at San Clemente retailers and eateries. More than 20 locations are seeking professional\, enthusiastic individuals for Full-Time\, Part-Time and Seasonal Positions. View current openings at ShopOSC.com/careers
LOCATION:Outlets at San Clemente Oak Tree Court *Located near Nike and H&M 101 W. Avenida Vista Hermosa San Clemente\, CA 92672
UID:e.2189.4896
SEQUENCE:3
DTSTAMP:20260421T084010Z
URL:https://business.danapointchamber.com/events/details/outlets-at-san-clemente-job-fair-4896
END:VEVENT

END:VCALENDAR
