BEGIN:VCALENDAR
VERSION:2.0
PRODID:-//ChamberMaster//Event Calendar 2.0//EN
METHOD:PUBLISH
X-PUBLISHED-TTL:P3D
REFRESH-INTERVAL:P3D
CALSCALE:GREGORIAN
BEGIN:VEVENT
DTSTART:20160126T020000Z
DTEND:20160126T050000Z
X-MICROSOFT-CDO-ALLDAYEVENT:FALSE
SUMMARY:Planning Commission Meeting
DESCRIPTION:
X-ALT-DESC;FMTTYPE=text/html:
LOCATION:Location is subject to change. Please check City of Dana Point website for more information.
UID:e.2189.4397
SEQUENCE:3
DTSTAMP:20260419T174829Z
URL:https://business.danapointchamber.com/events/details/planning-commission-meeting-01-25-2016-4397
END:VEVENT

END:VCALENDAR
