BEGIN:VCALENDAR
VERSION:2.0
PRODID:-//ChamberMaster//Event Calendar 2.0//EN
METHOD:PUBLISH
X-PUBLISHED-TTL:P3D
REFRESH-INTERVAL:P3D
CALSCALE:GREGORIAN
BEGIN:VEVENT
DTSTART:20151013T010000Z
DTEND:20151013T030000Z
X-MICROSOFT-CDO-ALLDAYEVENT:FALSE
SUMMARY:Planning Commission Meeting
DESCRIPTION:Dana Point City Hall- Council Chamber\n\n33282 Golden Lantern\n\nDana Point\, CA 92629
X-ALT-DESC;FMTTYPE=text/html:Dana Point City Hall- Council Chamber<br />\n33282 Golden Lantern<br />\nDana Point\, CA 92629
LOCATION:
UID:e.2189.2737
SEQUENCE:3
DTSTAMP:20260420T180745Z
URL:https://business.danapointchamber.com/events/details/planning-commission-meeting-10-12-2015-2737
END:VEVENT

END:VCALENDAR
