BEGIN:VCALENDAR
VERSION:2.0
PRODID:-//ChamberMaster//Event Calendar 2.0//EN
METHOD:PUBLISH
X-PUBLISHED-TTL:P3D
REFRESH-INTERVAL:P3D
CALSCALE:GREGORIAN
BEGIN:VEVENT
DTSTART:20160917T170000Z
DTEND:20160918T170000Z
X-MICROSOFT-CDO-ALLDAYEVENT:FALSE
SUMMARY:Relay For Life of Dana Point
DESCRIPTION:The American Cancer Society Relay For Life movement is the world's largest and most impactful fundraising event to end cancer.  It unites communities across the globe to celebrate people who have battled cancer\, remember loved ones lost\, and take action to finish the fight once and for all.
X-ALT-DESC;FMTTYPE=text/html:The American Cancer Society Relay For Life movement is the world&#39\;s largest and most impactful fundraising event to end cancer. &nbsp\;It unites communities across the globe to celebrate people who have battled cancer\, remember loved ones lost\, and take action to finish the fight once and for all.
LOCATION:Lantern Bay Park 25111 Park Lantern Dana Point\, CA 92629
UID:e.2189.4723
SEQUENCE:3
DTSTAMP:20260426T033140Z
URL:https://business.danapointchamber.com/events/details/relay-for-life-of-dana-point-09-17-2016-4723
END:VEVENT

END:VCALENDAR
