BEGIN:VCALENDAR
VERSION:2.0
PRODID:-//ChamberMaster//Event Calendar 2.0//EN
METHOD:PUBLISH
X-PUBLISHED-TTL:P3D
REFRESH-INTERVAL:P3D
CALSCALE:GREGORIAN
BEGIN:VEVENT
DTSTART:20231212T230000Z
DTEND:20231213T000000Z
X-MICROSOFT-CDO-ALLDAYEVENT:FALSE
SUMMARY:Ribbon Cutting: Cityside Fiber
DESCRIPTION:Join us for a ribbon cutting ceremony on Tuesday\, December 12 to welcome Cityside Fiber to Dana Point! The event will be held at the Dana Point Chamber of Commerce from 3:00-4:00pm with the ribbon cutting taking place at 3:20-3:30pm. \n\n\n\nParking is available in the Lantern Village Shopping Center behind the Chamber office.  \n\n\n\n\n\nAbout Cityside Fiber:\n\nCityside Fiber is Orange County's premier choice for high-speed internet and WiFi connectivity. We are putting consumers back in control of their internet experience with Multi-Gig speed options\, concierge services\, security\, and parental controls. All this with a more reliable connection for our customers' devices throughout their homes and businesses across Dana Point.\n\n\n\nLearn more at citysidefiber.com
X-ALT-DESC;FMTTYPE=text/html:<br />\n<br />\n<span style="color:#000000\;"><span style="font-size:14px\;"><span style="font-family:verdana\;">Join us for a ribbon cutting ceremony on Tuesday\, December 12 to welcome Cityside Fiber to Dana Point! The event will be held at the Dana Point Chamber of Commerce from 3:00-4:00pm with the ribbon cutting taking place at 3:20-3:30pm.&nbsp\;<br />\n<br />\nParking is available in the Lantern Village Shopping Center behind the Chamber office.&nbsp\;&nbsp\;<br />\n<br />\n<br />\n<strong>About Cityside Fiber:</strong><br />\nCityside Fiber is Orange County&#39\;s premier choice for high-speed internet and WiFi connectivity. We are putting consumers back in control of their internet experience with Multi-Gig speed options\, concierge services\, security\, and parental controls. All this with a more reliable connection for our customers&#39\; devices throughout their homes and businesses across Dana Point.</span></span></span><br />\n<br />\n<span style="color:#000000\;"><span style="font-size:14px\;"><span style="font-family:verdana\;">Learn more at <a href="https://www.citysidefiber.com/">citysidefiber.com</a></span></span></span><br />\n<br />\n<br />\n<br />\n<br />\n<br />\n<span style="font-size:14px\;">&nbsp\;</span>
LOCATION:Dana Point Chamber of Commerce 34183 Pacific Coast Hwy\, Suite A Dana Point\, CA 92629
UID:e.2189.14643
SEQUENCE:3
DTSTAMP:20260424T093030Z
URL:https://business.danapointchamber.com/events/details/ribbon-cutting-cityside-fiber-14643
END:VEVENT

END:VCALENDAR
