BEGIN:VCALENDAR
VERSION:2.0
PRODID:-//ChamberMaster//Event Calendar 2.0//EN
METHOD:PUBLISH
X-PUBLISHED-TTL:P3D
REFRESH-INTERVAL:P3D
CALSCALE:GREGORIAN
BEGIN:VEVENT
DTSTART:20151116T190000Z
DTEND:20151116T193000Z
X-MICROSOFT-CDO-ALLDAYEVENT:FALSE
SUMMARY:Ribbon Cutting: Lantern District
DESCRIPTION:Ribbon Cutting: Lantern District
X-ALT-DESC;FMTTYPE=text/html:Ribbon Cutting: Lantern District
LOCATION:On Del Prado under the new Arch Way
UID:e.2189.4071
SEQUENCE:3
DTSTAMP:20260423T092811Z
URL:https://business.danapointchamber.com/events/details/ribbon-cutting-lantern-district-11-16-2015-4071
END:VEVENT

END:VCALENDAR
