BEGIN:VCALENDAR
VERSION:2.0
PRODID:-//ChamberMaster//Event Calendar 2.0//EN
METHOD:PUBLISH
X-PUBLISHED-TTL:P3D
REFRESH-INTERVAL:P3D
CALSCALE:GREGORIAN
BEGIN:VEVENT
DTSTART:20241205T183000Z
DTEND:20241205T190000Z
X-MICROSOFT-CDO-ALLDAYEVENT:FALSE
SUMMARY:Ribbon Cutting | Plunge Performance & Recovery
DESCRIPTION:Join us in welcoming Plunge Performance & Recovery with a ribbon cutting ceremony!\n\n \n\nPlunge Performance & Recovery is a modern approach to an ancient practice. There are many benefits one can get from the effectiveness of cold water immersion therapy\, especially if people regularly immerse themselves in cold water temperatures for short periods of time. In the last decade\, studies have been coming out with more and more benefits of immersions in cold water.\n\n\n\nPlunge Performance & Recovery has three plunges with multiple temperature ranges for entry level to experienced plungers\, as well as an XL size Chilo plunge. These are state of the art plunges with the ultimate filtration and refrigeration. There is always clean water at Plunge Performance & Recovery\; ozonated water with built in filtration and frequent water changes means there is a high standard for a clean experience every plunge.\n\n\n\nWe are so excited to welcome Plunge Performance & Recovery! We hope you will join us in celebrating this ribbon cutting ceremony!
X-ALT-DESC;FMTTYPE=text/html:<span style="font-family: verdana\; font-size: 14px\;">Join us in welcoming Plunge Performance &amp\; Recovery with a ribbon cutting ceremony!</span><br style="font-family: verdana\; font-size: 14px\;" />\n<span style="font-family: verdana\; font-size: 14px\;">&nbsp\;</span><br style="font-family: verdana\; font-size: 14px\;" />\n<span style="font-size:14px\;"><span style="font-family:verdana\;">Plunge Performance &amp\; Recovery is a modern approach to an ancient practice. There are many benefits one can get from the effectiveness of cold water immersion therapy\, especially if people regularly immerse themselves in cold water temperatures for short periods of time. In the last decade\, studies have been coming out with more and more benefits of immersions in cold water.<br />\n<br />\nPlunge Performance &amp\; Recovery has three plunges with multiple temperature ranges for entry level to experienced plungers\, as well as an XL size Chilo plunge. These are state of the art plunges with the ultimate filtration and refrigeration. There is always clean water at Plunge Performance &amp\; Recovery\; ozonated water with built in filtration and frequent water changes means there is a high standard for a clean experience every plunge.</span></span><br />\n<br style="font-family: verdana\; font-size: 14px\;" />\n<span style="font-family: verdana\; font-size: 14px\;">We are so excited to welcome Plunge Performance &amp\; Recovery! We hope you will join us in celebrating this ribbon cutting ceremony!</span>
LOCATION:Plunge Performance & Recovery 34098 Pacific Coast Highway Suite A Dana Point\, CA 92629
UID:e.2189.15112
SEQUENCE:3
DTSTAMP:20260423T134554Z
URL:https://business.danapointchamber.com/events/details/ribbon-cutting-plunge-performance-recovery-15112
END:VEVENT

END:VCALENDAR
