BEGIN:VCALENDAR
VERSION:2.0
PRODID:-//ChamberMaster//Event Calendar 2.0//EN
METHOD:PUBLISH
X-PUBLISHED-TTL:P3D
REFRESH-INTERVAL:P3D
CALSCALE:GREGORIAN
BEGIN:VEVENT
DTSTART:20260116T184500Z
DTEND:20260117T074500Z
X-MICROSOFT-CDO-ALLDAYEVENT:FALSE
SUMMARY:Ribbon Cutting: The White Rooster
DESCRIPTION:Join the Dana Point Chamber of Commerce for a ribbon cutting ceremony on Friday\, January 16 at 11:00am as we celebrate the grand opening of The White Rooster! Please arrive at 10:45am as the ribbon cutting will kick-off at 11:00am. \n\n\n\nPlease click the blue Register button to RSVP. There is no charge to attend. Open to the public.\n\n \n\nAbout The White Rooster:  \n\n\n\nChef Michael Campbell is "ruffling some feathers" in the best way possible\, bringing a whole new rhythm to the California food scene. From slow-and-low smoked favorites to sweet coastal treats\, every dish is an adventure worth the road trip. \n\n\n\nAt The White Rooster\, we believe food should be approachable and made for living\, whether you're fresh off a surfboard or a long drive down PCH. We're not just a destination\; we're a place to make memories you'll want to flock back to again and again. \n\n\n\nFollow along their journey on Instagram @whiteroostercafe
X-ALT-DESC;FMTTYPE=text/html:<p data-end="429" data-start="88"><br />\n<span style="font-size:18px\;"><span style="font-family:verdana\;"><span style="color:#000000\;">Join the Dana Point Chamber of Commerce for a <strong>ribbon cutting ceremony</strong> on <strong>Friday\, January 16</strong>&nbsp\;at <strong>11:00am</strong>&nbsp\;as we celebrate the grand opening of <strong>The White Rooster</strong>! <u>Please arrive at 10:45am as the ribbon cutting will kick-off at 11:00am</u>.&nbsp\;</span><br />\n<br />\n<span style="color:#000000\;"><strong>Please click the blue Register button to RSVP.&nbsp\;</strong></span></span><em style="color: rgb(0\, 0\, 0)\; font-family: verdana\; font-size: 14px\;">There is no charge to attend. Open to the public.</em></span><br />\n&nbsp\;</p>\n\n<div style="border: 0px\; font-variant-numeric: inherit\; font-variant-east-asian: inherit\; font-variant-alternates: inherit\; font-variant-position: inherit\; font-variant-emoji: inherit\; font-stretch: inherit\; font-size: 15px\; line-height: inherit\; font-family: &quot\;Segoe UI&quot\;\, &quot\;Segoe UI Web (West European)&quot\;\, -apple-system\, BlinkMacSystemFont\, Roboto\, &quot\;Helvetica Neue&quot\;\, sans-serif\; font-optical-sizing: inherit\; font-size-adjust: inherit\; font-kerning: inherit\; font-feature-settings: inherit\; font-variation-settings: inherit\; margin: 0px\; padding: 0px\; vertical-align: baseline\; color: rgb(36\, 36\, 36)\;"><span style="font-size:18px\;"><span style="font-family:verdana\;"><span style="color:#000000\;"><b data-olk-copy-source="MessageBody">About </b></span></span></span><strong style="color: rgb(0\, 0\, 0)\; font-family: verdana\; font-size: 18px\;">The White Rooster</strong><span style="font-size:18px\;"><span style="font-family:verdana\;"><span style="color:#000000\;"><b data-olk-copy-source="MessageBody">:&nbsp\;&nbsp\;</b></span></span></span></div>\n\n<div style="border: 0px\; font-variant-numeric: inherit\; font-variant-east-asian: inherit\; font-variant-alternates: inherit\; font-variant-position: inherit\; font-variant-emoji: inherit\; font-stretch: inherit\; line-height: inherit\; font-optical-sizing: inherit\; font-size-adjust: inherit\; font-kerning: inherit\; font-feature-settings: inherit\; font-variation-settings: inherit\; margin: 0px\; padding: 0px\; vertical-align: baseline\;">\n<div style="font-style: inherit\; font-variant: inherit\; font-weight: inherit\; font-stretch: inherit\; line-height: inherit\; font-optical-sizing: inherit\; font-size-adjust: inherit\; font-kerning: inherit\; font-feature-settings: inherit\; font-variation-settings: inherit\; border: 0px\; margin: 0px\; padding: 0px\; vertical-align: baseline\;">\n<div class="x_elementToProof" data-olk-copy-source="MessageBody" style="border: 0px\; font-variant-numeric: inherit\; font-variant-east-asian: inherit\; font-variant-alternates: inherit\; font-variant-position: inherit\; font-variant-emoji: inherit\; font-stretch: inherit\; font-size: 12pt\; line-height: inherit\; font-family: Aptos\, Aptos_EmbeddedFont\, Aptos_MSFontService\, Calibri\, Helvetica\, sans-serif\; font-optical-sizing: inherit\; font-size-adjust: inherit\; font-kerning: inherit\; font-feature-settings: inherit\; font-variation-settings: inherit\; margin: 1em 0in\; padding: 0px\; vertical-align: baseline\; color: rgb(0\, 0\, 0)\;"><span style="font-size:18px\;"><span style="font-family:verdana\;"><span style="color:#000000\;">Chef Michael Campbell is &quot\;ruffling some feathers&quot\; in the best way possible\, bringing a whole new rhythm to the California food scene. From slow-and-low smoked favorites to sweet coastal treats\, every dish is an adventure worth the road trip.&nbsp\;<br />\n<br />\nAt The White Rooster\, we believe food should be approachable and made for living\, whether you&#39\;re fresh off a surfboard or a long drive down PCH. We&#39\;re not just a destination\; we&#39\;re a place to make memories you&#39\;ll want to flock back to again and again.&nbsp\;<br />\n<br />\nFollow along their journey on <a href="https://www.instagram.com/whiteroostercafe/">Instagram @whiteroostercafe&nbsp\;</a></span></span></span></div>\n</div>\n</div>\n
LOCATION:The White Rooster 34320 Pacific Coast Hwy\, Suite H Dana Point\, CA 92629
UID:e.2189.16593
SEQUENCE:3
DTSTAMP:20260422T153523Z
URL:https://business.danapointchamber.com/events/details/ribbon-cutting-the-white-rooster-16593
END:VEVENT

END:VCALENDAR
