BEGIN:VCALENDAR
VERSION:2.0
PRODID:-//ChamberMaster//Event Calendar 2.0//EN
METHOD:PUBLISH
X-PUBLISHED-TTL:P3D
REFRESH-INTERVAL:P3D
CALSCALE:GREGORIAN
BEGIN:VEVENT
DTSTART:20161114T193000Z
DTEND:20161114T200000Z
X-MICROSOFT-CDO-ALLDAYEVENT:FALSE
SUMMARY:Ribbon Cutting: Walk-In Clinic/Urgent Care
DESCRIPTION:Join us for the GRAND OPENING of Walk-In Clinic/Urgent Care!
X-ALT-DESC;FMTTYPE=text/html:<strong><span style="color:#FF0000\;"><span style="font-family:arial\;"><span style="font-size:14px\;">Join us for the GRAND OPENING of Walk-In Clinic/Urgent Care!</span></span></span></strong>
LOCATION:Walk-In Clinic/Urgent Care 24582 Del Prado\, Suite H Dana Point\, CA 92629
UID:e.2189.4932
SEQUENCE:3
DTSTAMP:20260425T225944Z
URL:https://business.danapointchamber.com/events/details/ribbon-cutting-walk-in-clinic-urgent-care-4932
END:VEVENT

END:VCALENDAR
