BEGIN:VCALENDAR
VERSION:2.0
PRODID:-//ChamberMaster//Event Calendar 2.0//EN
METHOD:PUBLISH
X-PUBLISHED-TTL:P3D
REFRESH-INTERVAL:P3D
CALSCALE:GREGORIAN
BEGIN:VEVENT
DTSTART;VALUE=DATE:20180407
DTEND;VALUE=DATE:20180408
TRANSP:TRANSPARENT
X-MICROSOFT-CDO-ALLDAYEVENT:TRUE
SUMMARY:Sabroso: Craft Beer\, Taco & Music Festival
DESCRIPTION:Sabroso Craft Beer\, Taco & Music Festival\, headlined by The Offspring\, is a day filled with craft beer\, tasty gourmet tacos\, Lucha Libre style wrestling and live music. \n\nThe festival date will feature up to four hours of craft beer tastings featuring over 100 craft beers. Festival hours will be 1-9 p.m. (VIP entry is noon)
X-ALT-DESC;FMTTYPE=text/html:Sabroso Craft Beer\, Taco &amp\; Music Festival\, headlined by The Offspring\, is a day filled with craft beer\, tasty gourmet tacos\, Lucha Libre style wrestling and live music.&nbsp\;<br />\nThe festival date will feature up to four hours of craft beer tastings featuring over 100 craft beers. Festival hours will be 1-9 p.m. (VIP entry is noon)
LOCATION:Doheny State Beach 25300 Dana Point Harbor Drive Dana Point\, CA 92629
UID:e.2189.7043
SEQUENCE:3
DTSTAMP:20260420T173426Z
URL:https://business.danapointchamber.com/events/details/sabroso-craft-beer-taco-music-festival-7043
END:VEVENT

END:VCALENDAR
