BEGIN:VCALENDAR
VERSION:2.0
PRODID:-//ChamberMaster//Event Calendar 2.0//EN
METHOD:PUBLISH
X-PUBLISHED-TTL:P3D
REFRESH-INTERVAL:P3D
CALSCALE:GREGORIAN
BEGIN:VEVENT
DTSTART:20170303T020000Z
DTEND:20170303T050000Z
X-MICROSOFT-CDO-ALLDAYEVENT:FALSE
SUMMARY:Saddleback Star Vocal Competition & Food and Drink Festival
DESCRIPTION:A food & drink festival and pre-show entertainment has been added by the Angels for the Arts to the very popular Saddleback Star Vocal Competition.  Guests can enjoy food\, beer & wine from local restaurants starting at 6:00 p.m. The festival will also include a silent auction\, an opportunity drawing and entertainment by students in the college's Commercial Music Program\, playing favorites from the past five decades. The Saddleback Star competition begins at 7:30 p.m.\, and you'll want to see who will be crowned Saddleback's 2017 vocal star.
X-ALT-DESC;FMTTYPE=text/html:<span style="font-family:arial\;"><span style="color: rgb(34\, 34\, 34)\;">A food &amp\; drink festival and pre-show entertainment has been added by the Angels for the Arts to the very popular Saddleback Star Vocal Competition. &nbsp\;Guests can enjoy food\, beer &amp\; wine from local restaurants starting at 6:00 p.m. The festival will also include a silent auction\, an opportunity drawing and entertainment by students in the college&rsquo\;s Commercial Music Program\, playing favorites from the past five decades. The Saddleback Star competition begins at 7:30 p.m.\, and you&rsquo\;ll want to see who will be crowned Saddleback&rsquo\;s 2017 vocal star.&nbsp\;</span></span>
LOCATION:Saddleback Community College McKinney Theatre 28000 Marguerite Pkwy Mission Viejo\, CA 92692
UID:e.2189.5513
SEQUENCE:3
DTSTAMP:20260425T170305Z
URL:https://business.danapointchamber.com/events/details/saddleback-star-vocal-competition-food-and-drink-festival-5513
END:VEVENT

END:VCALENDAR
