BEGIN:VCALENDAR
VERSION:2.0
PRODID:-//ChamberMaster//Event Calendar 2.0//EN
METHOD:PUBLISH
X-PUBLISHED-TTL:P3D
REFRESH-INTERVAL:P3D
CALSCALE:GREGORIAN
BEGIN:VEVENT
DTSTART:20160912T180000Z
DTEND:20160913T030000Z
X-MICROSOFT-CDO-ALLDAYEVENT:FALSE
SUMMARY:San Clemente Marine Support Group - 1st Annual Socks Fore Heroes Golf Tournament
DESCRIPTION:Why Socks?\n\nOur son\, LCPL Donald J. Hogan\, was killed in Helmand Afghanistan in August of 2009.\n\nIn the time period that followed that tragedy\, we spent a lot of time with the Marines who served with him. During each of our conversations with these men\, we asked them what they needed the most. Their answer? Socks.\n\nWell the infantry spends all of their time on their feet. They have no laundry facilities\, so they have to wash their socks in the canals and air dry them. While in California\, this would be no problem\, but where they are located\, the sand and grit gets into them and make them unusable within a couple of days. Speaking to over 100 field Marines\, the answer was uniform: "Send us Socks."
X-ALT-DESC;FMTTYPE=text/html:<h3><strong><em>Why Socks?</em></strong></h3>\n\n<p>Our son\, LCPL Donald J. Hogan\, was killed in Helmand Afghanistan in August of 2009.</p>\n\n<p><strong><em>In the time period that followed that tragedy\, we spent a lot of time with the Marines who served with him. During each of our conversations with these men\, we asked them what they needed the most. Their answer? Socks.</em></strong></p>\n\n<p>Well the infantry spends all of their time on their feet. They have no laundry facilities\, so they have to wash their socks in the canals and air dry them. While in California\, this would be no problem\, but where they are located\, the sand and grit gets into them and make them unusable within a couple of days. Speaking to over 100 field Marines\, the answer was uniform: &ldquo\;Send us Socks.&rdquo\;</p>\n
LOCATION:Bella Collina Golf Club 200 Avenida La Pata San Clemente\, CA 92673
UID:e.2189.4843
SEQUENCE:3
DTSTAMP:20260426T023731Z
URL:https://business.danapointchamber.com/events/details/san-clemente-marine-support-group-1st-annual-socks-fore-heroes-golf-tournament-09-12-2016-4843
END:VEVENT

END:VCALENDAR
