BEGIN:VCALENDAR
VERSION:2.0
PRODID:-//ChamberMaster//Event Calendar 2.0//EN
METHOD:PUBLISH
X-PUBLISHED-TTL:P3D
REFRESH-INTERVAL:P3D
CALSCALE:GREGORIAN
BEGIN:VEVENT
DTSTART:20151205T180000Z
DTEND:20151205T230000Z
X-MICROSOFT-CDO-ALLDAYEVENT:FALSE
SUMMARY:Santa Paws
DESCRIPTION:Pet Project Foundation is excited to host the 3rd Annual Santa Paws event. Bring down your favorite pet and have their picture taken with Santa for a small fee. All proceeds go to Pet Project Foundation in support of the San Clemente-Dana Point Animal Shelter.
X-ALT-DESC;FMTTYPE=text/html:Pet Project Foundation is excited to host the 3rd Annual Santa Paws event. Bring down your favorite pet and have their picture taken with Santa for a small fee. All proceeds go to Pet Project Foundation in support of the San Clemente-Dana Point Animal Shelter.
LOCATION:El Torito Courtyard
UID:e.2189.4375
SEQUENCE:3
DTSTAMP:20260419T205341Z
URL:https://business.danapointchamber.com/events/details/santa-paws-12-05-2015-4375
END:VEVENT

END:VCALENDAR
