BEGIN:VCALENDAR
VERSION:2.0
PRODID:-//ChamberMaster//Event Calendar 2.0//EN
METHOD:PUBLISH
X-PUBLISHED-TTL:P3D
REFRESH-INTERVAL:P3D
CALSCALE:GREGORIAN
BEGIN:VEVENT
DTSTART:20151205T003000Z
DTEND:20151205T033000Z
X-MICROSOFT-CDO-ALLDAYEVENT:FALSE
SUMMARY:Santa Photos
DESCRIPTION:Bring your cameras and catch a selfie with Santa - FREE
X-ALT-DESC;FMTTYPE=text/html:Bring your cameras and catch a selfie with Santa - FREE
LOCATION:El Torito Courtyard
UID:e.2189.4376
SEQUENCE:3
DTSTAMP:20260420T034432Z
URL:https://business.danapointchamber.com/events/details/santa-photos-12-04-2015-4376
END:VEVENT

END:VCALENDAR
