BEGIN:VCALENDAR
VERSION:2.0
PRODID:-//ChamberMaster//Event Calendar 2.0//EN
METHOD:PUBLISH
X-PUBLISHED-TTL:P3D
REFRESH-INTERVAL:P3D
CALSCALE:GREGORIAN
BEGIN:VEVENT
DTSTART:20151217T230000Z
DTEND:20151218T010000Z
X-MICROSOFT-CDO-ALLDAYEVENT:FALSE
SUMMARY:Santa Photos
DESCRIPTION:Bring your cameras and catch a selfie with Santa - FREE!
X-ALT-DESC;FMTTYPE=text/html:Bring your cameras and catch a selfie with Santa - FREE!&nbsp\;&nbsp\;&nbsp\;
LOCATION:Dana Wharf Courtyard
UID:e.2189.4378
SEQUENCE:3
DTSTAMP:20260420T205608Z
URL:https://business.danapointchamber.com/events/details/santa-photos-12-17-2015-4378
END:VEVENT

END:VCALENDAR
