BEGIN:VCALENDAR
VERSION:2.0
PRODID:-//ChamberMaster//Event Calendar 2.0//EN
METHOD:PUBLISH
X-PUBLISHED-TTL:P3D
REFRESH-INTERVAL:P3D
CALSCALE:GREGORIAN
BEGIN:VEVENT
DTSTART:20151029T010000Z
DTEND:20151029T040000Z
X-MICROSOFT-CDO-ALLDAYEVENT:FALSE
SUMMARY:SCORE Workshop: Handling Disability Issues at Work & Handling Discrimination/Harassment Claims
DESCRIPTION:Reduce your legal risks by dealing with discrimination and harassment complaints quickly and carefully.\n\n\n\nEmployers inevitably will receive complaints about discrimination or harassment at the workplace or may receive a request for disability accommodation. California law requires employers to respond to these types of issues promptly and thoroughly. This workshop will cover how to handle these types of complaints or concerns. Specifically the workshop will cover:\n\n	What is harassment and discrimination?\n	What to do when you receive a complaint of harassment or discrimination.\n	How to conduct an non-biased investigation.\n	What is considered a disability in California?\n	Tips on how to engage in the interactive process.\n	When must an employer accommodate?\n	What if the accommodation is an undue hardship?\n\nAllyson K. Thompson of Kring & Chung\, Attorneys LLP presents this workshop. Allyson holds a B.A. in Political Science from the University of Hawaii and a JD from Lincoln Law in Sacramento. Areas of expertise are employment and labor law\, including sexual harassment\, discrimination\, and wage and hour litigation. Allyson advises employers on how to avoid employment related litigation and has lectured on issues such as effective strategy in preparing employee handbooks and company policies\, legislative changes to State and Federal labor laws and prevention of sexual harassment in the workplace. She is an active member of the Society of Human Resources Management ("SHRM") and is currently serving as the Advocacy Captain for the 48th Congressional District on behalf of SHRM. Allyson currently serves as the Vice President of the Orange County Women Lawyers Association.\n\n\n\nClick here to RSVP
X-ALT-DESC;FMTTYPE=text/html:Reduce your legal risks by dealing with discrimination and harassment complaints quickly and carefully.<br />\n<br />\nEmployers inevitably will receive complaints about discrimination or harassment at the workplace or may receive a request for disability accommodation. California law requires employers to respond to these types of issues promptly and thoroughly. This workshop will cover how to handle these types of complaints or concerns. Specifically the workshop will cover:\n<ul>\n	<li>What is harassment and discrimination?</li>\n	<li>What to do when you receive a complaint of harassment or discrimination.</li>\n	<li>How to conduct an non-biased investigation.</li>\n	<li>What is considered a disability in California?</li>\n	<li>Tips on how to engage in the interactive process.</li>\n	<li>When must an employer accommodate?</li>\n	<li>What if the accommodation is an undue hardship?</li>\n</ul>\nAllyson K. Thompson of Kring &amp\; Chung\, Attorneys LLP presents this workshop. Allyson holds a B.A. in Political Science from the University of Hawaii and a JD from Lincoln Law in Sacramento. Areas of expertise are employment and labor law\, including sexual harassment\, discrimination\, and wage and hour litigation. Allyson advises employers on how to avoid employment related litigation and has lectured on issues such as effective strategy in preparing employee handbooks and company policies\, legislative changes to State and Federal labor laws and prevention of sexual harassment in the workplace. She is an active member of the Society of Human Resources Management (&quot\;SHRM&quot\;) and is currently serving as the Advocacy Captain for the 48th Congressional District on behalf of SHRM. Allyson currently serves as the Vice President of the Orange County Women Lawyers Association.<br />\n<br />\n<a href="https://s01.123signup.com/servlet/SignUpMember?PG=1521196182300&amp\;P=15211961911429686300">Click here</a> to RSVP
LOCATION:Capo Beach Church 25975 Domingo Avenue Dana Point\, CA 92624
UID:e.2189.4054
SEQUENCE:3
DTSTAMP:20260421T102014Z
URL:https://business.danapointchamber.com/events/details/score-workshop-handling-disability-issues-at-work-handling-discrimination-harassment-claims-10-28-2015-4054
END:VEVENT

END:VCALENDAR
