BEGIN:VCALENDAR
VERSION:2.0
PRODID:-//ChamberMaster//Event Calendar 2.0//EN
METHOD:PUBLISH
X-PUBLISHED-TTL:P3D
REFRESH-INTERVAL:P3D
CALSCALE:GREGORIAN
BEGIN:VEVENT
DTSTART:20150516T140000Z
DTEND:20150516T180000Z
X-MICROSOFT-CDO-ALLDAYEVENT:FALSE
SUMMARY:Sea Star Stroll
DESCRIPTION:We invite you to join us at our Sea Star Stroll with Celebrity Chair\, Wyland. The Stroll is a 1.2 mile fundraising walk to benefit the Ocean Institute and the Maddie James Seaside Learning Center. The event will take place at 8:00 a.m. on Saturday\, May 16\, 2015 in Dana Point. This year will be extra special as we celebrate the grand opening of our new public exhibits expansion. Following the Stroll\, registered participants are invited to enjoy an Open House Festival at the Ocean Institute that will feature: ?Refreshments ?Live Music ?Crafts ?Self-guided tours through the Ocean Institute\, the tall ship brig Pilgrim\, and the Maddie James Seaside Learning Center. ?Fun activities for the whole family! PLEASE NOTE ? Dogs\, strollers\, ride-ons and wheelchairs are not permitted on the Sea Star Stroll course. Registered participants will receive an event t-shirt and commemorative medal. Please note that we cannot guarantee a t-shirt or medal for on-site registrants\, so don?t delay and sign up today!
X-ALT-DESC;FMTTYPE=text/html:We invite you to join us at our Sea Star Stroll with Celebrity Chair\, Wyland. The Stroll is a 1.2 mile fundraising walk to benefit the Ocean Institute and the Maddie James Seaside Learning Center. The event will take place at 8:00 a.m. on Saturday\, May 16\, 2015 in Dana Point. This year will be extra special as we celebrate the grand opening of our new public exhibits expansion. Following the Stroll\, registered participants are invited to enjoy an Open House Festival at the Ocean Institute that will feature: ?Refreshments ?Live Music ?Crafts ?Self-guided tours through the Ocean Institute\, the tall ship brig Pilgrim\, and the Maddie James Seaside Learning Center. ?Fun activities for the whole family! PLEASE NOTE ? Dogs\, strollers\, ride-ons and wheelchairs are not permitted on the Sea Star Stroll course. Registered participants will receive an event t-shirt and commemorative medal. Please note that we cannot guarantee a t-shirt or medal for on-site registrants\, so don?t delay and sign up today!
LOCATION:?Event Parking: event participants should park in the Strand Beach parking lot located at the end of Selva Road\, south of Pacific Coast Highway in Dana Point.?Complimentary shuttle services between the Ocean Institute and the Strand parking lot will be provided from 8:00 a.m. until 11:30 a.m.
UID:e.2189.2588
SEQUENCE:3
DTSTAMP:20260423T221229Z
URL:https://business.danapointchamber.com/events/details/sea-star-stroll-05-16-2015-2588
END:VEVENT

END:VCALENDAR
