BEGIN:VCALENDAR
VERSION:2.0
PRODID:-//ChamberMaster//Event Calendar 2.0//EN
METHOD:PUBLISH
X-PUBLISHED-TTL:P3D
REFRESH-INTERVAL:P3D
CALSCALE:GREGORIAN
BEGIN:VEVENT
DTSTART:20150227T010000Z
DTEND:20150227T030000Z
X-MICROSOFT-CDO-ALLDAYEVENT:FALSE
SUMMARY:Senior Twilight Dinner
DESCRIPTION:For more information please call 949-248-3536.
X-ALT-DESC;FMTTYPE=text/html:For more&nbsp\;information please call 949-248-3536.
LOCATION:Dana Point Community Center 34052 Del Obispo Street Dana Point\, CA 92629
UID:e.2189.1905
SEQUENCE:3
DTSTAMP:20260425T133237Z
URL:https://business.danapointchamber.com/events/details/senior-twilight-dinner-02-26-2015-1905
END:VEVENT

END:VCALENDAR
