BEGIN:VCALENDAR
VERSION:2.0
PRODID:-//ChamberMaster//Event Calendar 2.0//EN
METHOD:PUBLISH
X-PUBLISHED-TTL:P3D
REFRESH-INTERVAL:P3D
CALSCALE:GREGORIAN
BEGIN:VEVENT
DTSTART:20150626T000000Z
DTEND:20150626T020000Z
X-MICROSOFT-CDO-ALLDAYEVENT:FALSE
SUMMARY:Senior Twilight Dinner
DESCRIPTION:
X-ALT-DESC;FMTTYPE=text/html:
LOCATION:Dana Point Community Center 34052 Del Obispo Street Dana Point\, CA 92629
UID:e.2189.1909
SEQUENCE:3
DTSTAMP:20260422T100114Z
URL:https://business.danapointchamber.com/events/details/senior-twilight-dinner-06-25-2015-1909
END:VEVENT

END:VCALENDAR
