BEGIN:VCALENDAR
VERSION:2.0
PRODID:-//ChamberMaster//Event Calendar 2.0//EN
METHOD:PUBLISH
X-PUBLISHED-TTL:P3D
REFRESH-INTERVAL:P3D
CALSCALE:GREGORIAN
BEGIN:VEVENT
DTSTART;VALUE=DATE:20150822
DTEND;VALUE=DATE:20150823
TRANSP:TRANSPARENT
X-MICROSOFT-CDO-ALLDAYEVENT:TRUE
SUMMARY:Shark Month - August
DESCRIPTION:Celebrate Shark Month with shark-themed activities during our Weekend Public Program. Determine what is myth vs. fact and learn about shark conservation efforts.
X-ALT-DESC;FMTTYPE=text/html:<span style="font-family: &quot\;Calibri&quot\;\,sans-serif\; font-size: 11pt\; mso-fareast-font-family: &quot\;MS PGothic&quot\;\; mso-bidi-font-family: &quot\;MS PGothic&quot\;\; mso-ansi-language: EN-US\; mso-fareast-language: JA\; mso-bidi-language: AR-SA\;"><font color="#000000">Celebrate <i>Shark Month</i> with shark-themed activities during our Weekend Public Program. Determine what is myth vs. fact and learn about shark conservation efforts.</font></span>
LOCATION:Dana Roeber Murray from Heal the Bay will host a presentation on conservation and Heal the Bay's Shark Ambassador Program.
UID:e.2189.3442
SEQUENCE:3
DTSTAMP:20260421T223658Z
URL:https://business.danapointchamber.com/events/details/shark-month-august-08-22-2015-3442
END:VEVENT

END:VCALENDAR
