BEGIN:VCALENDAR
VERSION:2.0
PRODID:-//ChamberMaster//Event Calendar 2.0//EN
METHOD:PUBLISH
X-PUBLISHED-TTL:P3D
REFRESH-INTERVAL:P3D
CALSCALE:GREGORIAN
BEGIN:VEVENT
DTSTART:20141121T010000Z
DTEND:20141121T020000Z
X-MICROSOFT-CDO-ALLDAYEVENT:FALSE
SUMMARY:Smart & Final Turkey Giveaway
DESCRIPTION:In honor of the 37th Annual Dana Point Turkey Trot\, Smart & Final\, a sponsor of the race\, will select 5 lucky winners for their Turkey Giveaway Extravaganza.  Between November 1st and 20th\, patrons of their Capistrano Beach branch entered to win one of five Thanksgiving turkey's from Smart & Final.  In addition\, Smart & Final will present 5 turkeys that will be donated to a local non-profit\, Family Assistance Ministries.
X-ALT-DESC;FMTTYPE=text/html:<span style="font-family:calibri\,sans-serif\;"><span style="font-size:11.0pt\;">In honor of the 37<sup>th</sup> Annual Dana Point Turkey Trot\, Smart &amp\; Final\, a sponsor of the race\, will select 5 lucky winners for their Turkey Giveaway Extravaganza.&nbsp\; Between November 1<sup>st</sup> and 20<sup>th</sup>\, patrons of their Capistrano Beach branch entered to win one of five Thanksgiving turkey&rsquo\;s from Smart &amp\; Final.&nbsp\; In addition\, Smart &amp\; Final will present 5 turkeys that will be donated to a local non-profit\, Family Assistance Ministries.&nbsp\;</span></span>
LOCATION:Smart & Final Capistrano Beach: 34091 Doheny Park Rd\, Capistrano Beach\, CA 92624
UID:e.2189.1852
SEQUENCE:3
DTSTAMP:20260424T040955Z
URL:https://business.danapointchamber.com/events/details/smart-final-turkey-giveaway-11-20-2014-1852
END:VEVENT

END:VCALENDAR
