BEGIN:VCALENDAR
VERSION:2.0
PRODID:-//ChamberMaster//Event Calendar 2.0//EN
METHOD:PUBLISH
X-PUBLISHED-TTL:P3D
REFRESH-INTERVAL:P3D
CALSCALE:GREGORIAN
BEGIN:VEVENT
DTSTART:20151121T010000Z
DTEND:20151121T013000Z
X-MICROSOFT-CDO-ALLDAYEVENT:FALSE
SUMMARY:Smart & Final Turkey Giveaway Drawing
DESCRIPTION:In honor of the 38th Annual Dana Point Turkey Trot\, Smart & Final\, a sponsor of the race\, will select 5 lucky winners for their Turkey Giveaway Extravaganza. Between November 1st and 19th\, patrons of their Capistrano Beach branch entered to win one of five Thanksgiving turkey's from Smart & Final. Five lucky names will be drawn. In addition\, Smart & Final will present Families Assistance Ministries\, a local non-profit supported by the Dana Point Turkey Trot\, with five donated turkeys.
X-ALT-DESC;FMTTYPE=text/html:In honor of the 38th Annual Dana Point Turkey Trot\, Smart &amp\; Final\, a sponsor of the race\, will select 5 lucky winners for their Turkey Giveaway Extravaganza. Between November 1st and 19th\, patrons of their Capistrano Beach branch entered to win one of five Thanksgiving turkey&rsquo\;s from Smart &amp\; Final. Five lucky names will be drawn. In addition\, Smart &amp\; Final will present Families Assistance Ministries\, a local non-profit supported by the Dana Point Turkey Trot\, with five donated turkeys.
LOCATION:Smart & Final\, Capistrano Beach .34091 Doheny Park Rd Capistrano Beach\, CA 92624
UID:e.2189.4170
SEQUENCE:3
DTSTAMP:20260421T205923Z
URL:https://business.danapointchamber.com/events/details/smart-final-turkey-giveaway-drawing-11-20-2015-4170
END:VEVENT

END:VCALENDAR
