BEGIN:VCALENDAR
VERSION:2.0
PRODID:-//ChamberMaster//Event Calendar 2.0//EN
METHOD:PUBLISH
X-PUBLISHED-TTL:P3D
REFRESH-INTERVAL:P3D
CALSCALE:GREGORIAN
BEGIN:VEVENT
DTSTART:20170218T180000Z
DTEND:20170218T220000Z
X-MICROSOFT-CDO-ALLDAYEVENT:FALSE
SUMMARY:South County Pet Expo and Dog-A-Palooza
DESCRIPTION:Orange County Supervisor Lisa Bartlett in partnership with the City of Lake Forest\, Saddleback Church\, OC Animal Care\, and The Pet Adoption Center of Orange County invites animal lovers and their pets to the 2017 South County Pet Expo and Dog-A-Palooza!
X-ALT-DESC;FMTTYPE=text/html:Orange County Supervisor Lisa Bartlett in partnership with the City of Lake Forest\, Saddleback Church\, OC Animal Care\, and The Pet Adoption Center of Orange County invites animal lovers and their pets to the 2017 South County Pet Expo and Dog-A-Palooza!&nbsp\;
LOCATION:Lake Forest Sports Park & Recreation Center 28000 Rancho Parkway Lake Forest\, CA 92630
UID:e.2189.5172
SEQUENCE:3
DTSTAMP:20260425T184218Z
URL:https://business.danapointchamber.com/events/details/south-county-pet-expo-and-dog-a-palooza-5172
END:VEVENT

END:VCALENDAR
