BEGIN:VCALENDAR
VERSION:2.0
PRODID:-//ChamberMaster//Event Calendar 2.0//EN
METHOD:PUBLISH
X-PUBLISHED-TTL:P3D
REFRESH-INTERVAL:P3D
CALSCALE:GREGORIAN
BEGIN:VEVENT
DTSTART:20260426T180000Z
DTEND:20260426T200000Z
X-MICROSOFT-CDO-ALLDAYEVENT:FALSE
SUMMARY:South OC Women's Book Club
DESCRIPTION:We're so excited to invite our South County Book Club! Come join us as we review the first half of our chosen book: In a Dark\, Dark Wood\, by Ruth Ware. \n\n\n\nThis is all about connection\, conversation\, and creating something special from the start. Whether you're an avid reader or just love a good cozy hang\, you belong here.\n\n\n\nWhen: The last Sunday of each month (unless otherwise stated) \n\nWho: Women 18+ \n\nWhat to Expect: Good company\, thoughtful conversation\, and community. \n\n\n\nCome as you are\, bring your ideas\, and help shape what this book club becomes.
X-ALT-DESC;FMTTYPE=text/html:<span style="font-family:verdana\;"><span style="color: rgba(0\, 0\, 0\, 0.8)\; font-size: 18px\;">We&rsquo\;re so excited to invite our South County Book Club! Come join us as we review the first half of our chosen book: In a Dark\, Dark Wood\, by Ruth Ware.</span><span style="color: rgba(0\, 0\, 0\, 0.8)\; font-size: 18px\;"> </span><br />\n<br />\n<span style="color: rgba(0\, 0\, 0\, 0.8)\; font-size: 18px\;">This is all about connection\, conversation\, and creating something special from the start. Whether you&rsquo\;re an avid reader or just love a good cozy hang\, you belong here.</span><br />\n<br />\n<span style="color: rgba(0\, 0\, 0\, 0.8)\; font-size: 18px\;">When: The last Sunday of each month (unless otherwise stated)</span><span style="color: rgba(0\, 0\, 0\, 0.8)\; font-size: 18px\;"> </span><br />\n<span style="color: rgba(0\, 0\, 0\, 0.8)\; font-size: 18px\;">Who: Women 18+</span><span style="color: rgba(0\, 0\, 0\, 0.8)\; font-size: 18px\;"> </span><br />\n<span style="color: rgba(0\, 0\, 0\, 0.8)\; font-size: 18px\;">What to Expect: Good company\, thoughtful conversation\, and community.</span><span style="color: rgba(0\, 0\, 0\, 0.8)\; font-size: 18px\;"> </span><br />\n<br />\n<span style="color: rgba(0\, 0\, 0\, 0.8)\; font-size: 18px\;">Come as you are\, bring your ideas\, and help shape what this book club becomes.</span></span>
LOCATION:Chaupain Bakery 27321 La Paz Rd\, Ste A Laguna Niguel\, CA
UID:e.2189.17559
SEQUENCE:3
DTSTAMP:20260420T232719Z
URL:https://business.danapointchamber.com/events/details/south-oc-women-s-book-club-17559
END:VEVENT

END:VCALENDAR
