BEGIN:VCALENDAR
VERSION:2.0
PRODID:-//ChamberMaster//Event Calendar 2.0//EN
METHOD:PUBLISH
X-PUBLISHED-TTL:P3D
REFRESH-INTERVAL:P3D
CALSCALE:GREGORIAN
BEGIN:VEVENT
DTSTART:20260502T160000Z
DTEND:20260502T180000Z
X-MICROSOFT-CDO-ALLDAYEVENT:FALSE
SUMMARY:Strengthen Your Mind: A Private 1:1 ExoMind™ Experience with Dr. Beheshti
DESCRIPTION:Join us on May 2 for a unique opportunity to experience ExoMind \, an advanced\, non-invasive brain stimulation treatment designed to support mood\, focus\, and emotional regulation. Dr. Beheshti has been selected as one of a limited number of physicians to demonstrate BTL's latest innovations in brain health as part of this special event. This is a small\, scheduled experience where each attendee will have a private 15-minute\, one-on-one session with Dr. Beheshti\, including a brief consultation and live demonstration. BTL will be onsite with a mobile demo bus equipped with the device. The $5 registration fee simply reserves your individual time slot\, as space is limited.
X-ALT-DESC;FMTTYPE=text/html:<p><span style="font-size:18px\;"><span style="font-family:verdana\;">Join us on May 2 for a unique opportunity to experience ExoMind&trade\;\, an advanced\, non-invasive brain stimulation treatment designed to support mood\, focus\, and emotional regulation. Dr. Beheshti has been selected as one of a limited number of physicians to demonstrate BTL&rsquo\;s latest innovations in brain health as part of this special event. This is a small\, scheduled experience where each attendee will have a private 15-minute\, one-on-one session with Dr. Beheshti\, including a brief consultation and live demonstration. BTL will be onsite with a mobile demo bus equipped with the device. The $5 registration fee simply reserves your individual time slot\, as space is limited.</span></span></p>\n
LOCATION:34180 Pacific Coast Highway Dana Point\, CA 92629
UID:e.2189.17560
SEQUENCE:3
DTSTAMP:20260421T113341Z
URL:https://business.danapointchamber.com/events/details/strengthen-your-mind-a-private-1-1-exomind-experience-with-dr-beheshti-17560
END:VEVENT

END:VCALENDAR
