BEGIN:VCALENDAR
VERSION:2.0
PRODID:-//ChamberMaster//Event Calendar 2.0//EN
METHOD:PUBLISH
X-PUBLISHED-TTL:P3D
REFRESH-INTERVAL:P3D
CALSCALE:GREGORIAN
BEGIN:VEVENT
DTSTART:20260121T030000Z
DTEND:20260121T040000Z
X-MICROSOFT-CDO-ALLDAYEVENT:FALSE
SUMMARY:Successful Whale Watching Virtual Training
DESCRIPTION:Calling all boat owners and aspiring whale watching captains! Learn how the pros spot\, observe\, and protect marine wildlife. Great whale watching is not luck. It is knowledge\, experience\, and responsible decision-making. This free virtual training session brings together Dana Point's top whale watching professionals and marine science experts to share how successful encounters really happen.\n\n\n\nFrom understanding seasonal patterns in the Whale Heritage Area to improving spotting techniques and vessel behavior\, attendees will learn how professionals approach everything from fast-moving dolphin pods to feeding whales and sensitive mating behavior. The session also covers how to recognize signs of injury or entanglement\, what steps to take\, and how recent disentanglement efforts are making a difference.\n\n\n\nHear from Dr. Alissa C. Deming (VP\, Conservation Medicine and Science)\, Bill Lackey (Entangled Whale Response Orange County co-founder)\, Captain Alex Deshazer from Capt. Dave's Dolphin & Whale Watching Safari\, and a Dana Wharf Whale Watching crew/naturalist\, with time reserved for audience questions at the end.\n\n\n\nRegister to attend
X-ALT-DESC;FMTTYPE=text/html:<span style="font-size:16px\;"><span style="font-family:verdana\;"><span style="color:#000000\;">Calling all boat owners and aspiring whale watching captains! Learn how the pros spot\, observe\, and protect marine wildlife. Great whale watching is not luck. It is knowledge\, experience\, and responsible decision-making. This free virtual training session brings together Dana Point&rsquo\;s top whale watching professionals and marine science experts to share how successful encounters really happen.<br />\n<br />\nFrom understanding seasonal patterns in the Whale Heritage Area to improving spotting techniques and vessel behavior\, attendees will learn how professionals approach everything from fast-moving dolphin pods to feeding whales and sensitive mating behavior. The session also covers how to recognize signs of injury or entanglement\, what steps to take\, and how recent disentanglement efforts are making a difference.<br />\n<br />\nHear from Dr. Alissa C. Deming (VP\, Conservation Medicine and Science)\, Bill Lackey (Entangled Whale Response Orange County co-founder)\, Captain Alex Deshazer from Capt. Dave&rsquo\;s Dolphin &amp\; Whale Watching Safari\, and a Dana Wharf Whale Watching crew/naturalist\, with time reserved for audience questions at the end.<br />\n<br />\n<a href="https://docs.google.com/forms/d/e/1FAIpQLSdx8XL-jkBAHJV0xFMD0gGK9x5AZoXYy-3VXvqe-cHf_7CLfw/viewform">Register to attend</a>&nbsp\;</span></span></span><br />\n&nbsp\;
LOCATION:via Zoom
UID:e.2189.16611
SEQUENCE:3
DTSTAMP:20260422T150919Z
URL:https://business.danapointchamber.com/events/details/successful-whale-watching-virtual-training-16611
END:VEVENT

END:VCALENDAR
