BEGIN:VCALENDAR
VERSION:2.0
PRODID:-//ChamberMaster//Event Calendar 2.0//EN
METHOD:PUBLISH
X-PUBLISHED-TTL:P3D
REFRESH-INTERVAL:P3D
CALSCALE:GREGORIAN
BEGIN:VEVENT
DTSTART;VALUE=DATE:20150704
DTEND;VALUE=DATE:20150705
TRANSP:TRANSPARENT
X-MICROSOFT-CDO-ALLDAYEVENT:TRUE
SUMMARY:Summer Trolley Service
DESCRIPTION:Please click on link for the Trolley Route Map (PDF).  Trolleys arrive at stops every 15 minutes.  Services can be delayed during particularly heavy traffic conditions.\n\nVisit the Trolley Tracker for Real-Time Trolley Arrivals at www.dptrolley.com.\n\nSummer Weekend Trolley will be available June 26th to September 7th.
X-ALT-DESC;FMTTYPE=text/html:<p style="font-family: Verdana\, Arial\, sans-serif\; font-size: 11px\; line-height: 20px\; color: rgb(123\, 115\, 87)\; background-color: rgb(242\, 234\, 200)\;">Please click on link for the&nbsp\;<a href="https://www.danapoint.org/Modules/ShowDocument.aspx?documentid=15785" style="color: rgb(16\, 146\, 192)\;" target="_blank">Trolley Route Map</a>&nbsp\;(PDF).&nbsp\;&nbsp\;<strong>Trolleys arrive at stops every 15 minutes</strong>.&nbsp\;&nbsp\;<em>Services can be delayed during particularly heavy traffic conditions</em>.</p>\n\n<p style="font-family: Verdana\, Arial\, sans-serif\; font-size: 11px\; line-height: 20px\; color: rgb(123\, 115\, 87)\; background-color: rgb(242\, 234\, 200)\;">Visit the Trolley Tracker for Real-Time Trolley Arrivals at&nbsp\;<a href="http://www.dptrolley.com/" style="color: rgb(16\, 146\, 192)\;" target="_blank">www.dptrolley.com</a>.</p>\n\n<p style="font-family: Verdana\, Arial\, sans-serif\; font-size: 11px\; line-height: 20px\; color: rgb(123\, 115\, 87)\; background-color: rgb(242\, 234\, 200)\;"><strong>Summer Weekend Trolley will be available June 26th to September 7th.</strong></p>\n
LOCATION:
UID:e.2189.2669
SEQUENCE:3
DTSTAMP:20260424T040040Z
URL:https://business.danapointchamber.com/events/details/summer-trolley-service-07-04-2015-2669
END:VEVENT

END:VCALENDAR
