BEGIN:VCALENDAR
VERSION:2.0
PRODID:-//ChamberMaster//Event Calendar 2.0//EN
METHOD:PUBLISH
X-PUBLISHED-TTL:P3D
REFRESH-INTERVAL:P3D
CALSCALE:GREGORIAN
BEGIN:VEVENT
DTSTART:20160916T020000Z
DTEND:20160916T040000Z
X-MICROSOFT-CDO-ALLDAYEVENT:FALSE
SUMMARY:Summers Eve With Revital Imports- SPECIAL LADIES NIGHT!!!
DESCRIPTION:Please join us for a wonderful ladies evening at Revital Fine Jewelry & Imports.   \n\nOver the past year since the opening of our store in Dana Point\, we have met many fabulous women.   All of whom have a story to tell\, and something great to offer.   We thought it would be a great opportunity for all of our friends and valued clients to come together\, mingle\, and share a bit about who they are.  \n\nThere will also be a private showing of our new Autumn Collections.  You will get first pick of many of our new amazing pieces.  \n\n15% off the entire store during the event.....AND we will be raffling off a piece of jewelry to one lucky person!!!\n\nPlease make sure to RSVP\, so that we can get an idea of how many people to expect.\n\nWe are very much looking forward to seeing everyone. \n\nRevital\n\n***Wine\, refreshments\, and finger foods will be served.
X-ALT-DESC;FMTTYPE=text/html:<div>\n<div>\n<div>\n<p><span style="font-family:times new roman\,times\,serif"><span style="font-size:16px"><strong>Please join us for a wonderful ladies evening at Revital Fine Jewelry &amp\; Imports.&nbsp\;&nbsp\; </strong></span></span></p>\n\n<p><span style="font-size:14px"><span style="font-family:times new roman\,times\,serif">Over the past year since the opening of our store in Dana Point\, we have met many fabulous women.&nbsp\;&nbsp\; All of whom have a story to tell\, and something great to offer.&nbsp\;&nbsp\; We thought it would be a great opportunity for all of our friends and valued clients to come together\, mingle\, and share a bit about who they are.&nbsp\; </span></span></p>\n\n<p><span style="font-size:14px"><span style="font-family:times new roman\,times\,serif">There will also be a private showing of our new Autumn Collections.&nbsp\; You will get first pick of many of our new amazing pieces.&nbsp\; </span></span></p>\n\n<p><span style="font-size:14px"><span style="font-family:times new roman\,times\,serif"><strong>15% off the entire store during the event.....AND we will be raffling off a piece of jewelry to one lucky person!!!</strong></span></span></p>\n\n<p><span style="font-size:14px"><span style="font-family:times new roman\,times\,serif">Please make sure to RSVP\, so that we can get an idea of how many people to expect.</span></span></p>\n\n<p><span style="font-size:14px"><span style="font-family:times new roman\,times\,serif">We are very much looking forward to seeing everyone.&nbsp\;</span></span></p>\n\n<p><span style="font-size:14px"><span style="font-family:times new roman\,times\,serif">Revital</span></span></p>\n\n<p><span style="font-size:14px"><span style="font-family:times new roman\,times\,serif"><strong>***Wine\,</strong> refreshments\, and finger foods will be served.</span></span></p>\n</div>\n</div>\n</div>\n
LOCATION:Revital Fine Jewelry & Imports 24981 Dana Point Harbor Dr. Suite E110 Dana Point\, CA 92629 Dana Marina Plaza (next to What a Dish and RJs)
UID:e.2189.4894
SEQUENCE:3
DTSTAMP:20260426T020042Z
URL:https://business.danapointchamber.com/events/details/summers-eve-with-revital-imports-special-ladies-night-4894
END:VEVENT

END:VCALENDAR
