BEGIN:VCALENDAR
VERSION:2.0
PRODID:-//ChamberMaster//Event Calendar 2.0//EN
METHOD:PUBLISH
X-PUBLISHED-TTL:P3D
REFRESH-INTERVAL:P3D
CALSCALE:GREGORIAN
BEGIN:VEVENT
DTSTART;VALUE=DATE:20240216
DTEND;VALUE=DATE:20240219
TRANSP:TRANSPARENT
X-MICROSOFT-CDO-ALLDAYEVENT:TRUE
SUMMARY:Sunset Cruise with Dana Wharf
DESCRIPTION:Whale watch during a romantic sunset on board with Dana Wharf for a Sunset Cruise or enjoy a Wine Cruise with wine tasting and a dessert bar. Book Reservation \n\n\n\nSunset Cruise: \n\nFebruary 16\, 17 or 18 \n\n4:30-6:30pm\n\n\n\nWine Cruise (21+): \n\nFebruary 16 or 18\n\n5:30-7:00pm
X-ALT-DESC;FMTTYPE=text/html:<br />\n<span style="font-size:14px\;"><span style="font-family:verdana\;"><span style="color:#000000\;">Whale watch during a romantic sunset on board with Dana Wharf for a Sunset Cruise or enjoy a Wine Cruise with wine tasting and a dessert bar. <a href="https://danawharf.com/valentines-day/">Book Reservation</a>&nbsp\;<br />\n<br />\nSunset Cruise:&nbsp\;<br />\nFebruary 16\, 17 or 18&nbsp\;<br />\n4:30-6:30pm<br />\n<br />\nWine Cruise (21+):&nbsp\;<br />\nFebruary 16 or 18<br />\n5:30-7:00pm&nbsp\;</span></span></span><br />\n<br />\n&nbsp\;
LOCATION:Dana Wharf Whale Watching 34675 Golden Lantern Dana Point\, CA 92629
UID:e.2189.14750
SEQUENCE:3
DTSTAMP:20260424T055634Z
URL:https://business.danapointchamber.com/events/details/sunset-cruise-with-dana-wharf-14750
END:VEVENT

END:VCALENDAR
