BEGIN:VCALENDAR
VERSION:2.0
PRODID:-//ChamberMaster//Event Calendar 2.0//EN
METHOD:PUBLISH
X-PUBLISHED-TTL:P3D
REFRESH-INTERVAL:P3D
CALSCALE:GREGORIAN
BEGIN:VEVENT
DTSTART;VALUE=DATE:20160910
DTEND;VALUE=DATE:20160912
TRANSP:TRANSPARENT
X-MICROSOFT-CDO-ALLDAYEVENT:TRUE
SUMMARY:Tall Ships Festival
DESCRIPTION:Every year\, a fleet of historically significant sailing vessels comes to join our ships at Dana Point.  They come not only to display their beauty and majesty\, but to share with the public a maritime history that is inextricably part of California's past\, a heritage we work hard to preserve as we educate future generations about our oceans.  It is in support of this effort that we assemble these great ships for all to experience.
X-ALT-DESC;FMTTYPE=text/html:Every year\, a fleet of historically significant sailing vessels comes to join our ships at Dana Point. &nbsp\;They come not only to display their beauty and majesty\, but to share with the public a maritime history that is inextricably part of California&#39\;s past\, a heritage we work hard to preserve as we educate future generations about our oceans. &nbsp\;It is in support of this effort that we assemble these great ships for all to experience. &nbsp\;
LOCATION:Ocean Institute 24200 Dana Point Harbor Dr. Dana Point\, CA 92629
UID:e.2189.4770
SEQUENCE:3
DTSTAMP:20260426T014619Z
URL:https://business.danapointchamber.com/events/details/tall-ships-festival-09-10-2016-4770
END:VEVENT

END:VCALENDAR
