BEGIN:VCALENDAR
VERSION:2.0
PRODID:-//ChamberMaster//Event Calendar 2.0//EN
METHOD:PUBLISH
X-PUBLISHED-TTL:P3D
REFRESH-INTERVAL:P3D
CALSCALE:GREGORIAN
BEGIN:VEVENT
DTSTART:20160814T213000Z
DTEND:20160814T230000Z
X-MICROSOFT-CDO-ALLDAYEVENT:FALSE
SUMMARY:The Bookstore- Author Interview and Book Signing
DESCRIPTION:Emmy-award-winning broadcast journalist and author ("Viewer Discretion Advised") from the Miami Fox news market will be here in THE Bookstore this Sunday to interview Dana Point resident\, Anita Hughes\, as she launches her 7th book\, "Santorini Sunsets."  Note this event is one week earlier than our normal 3rd Sunday Local Author Lectures so as to accommodate the travel schedule of our Emmy Award-winning guest\, who is vacationing in our area.  Please join us in welcoming her and in congratulating Anita Hughes on the launch of her newest book.  And PLEASE ADD our usual 3rd Sunday Local Author Lecture Series to your Sunday calendar. FREE - 2:30 pm / Reception/Book signing follows lecture. Stop by and meet your neighbors who have written books and browse our Local Author section -- you might meet someone you know or recognize some local haunts that made their way into the pages of a book.
X-ALT-DESC;FMTTYPE=text/html:<br />\n<strong><span style="font-size:12.0pt\;">Emmy-award</span></strong><span style="font-family:times new roman\,serif\;"><span style="font-size:12.0pt\;">-winning broadcast journalist and author <em><strong>(&quot\;<u><span style="color:#990000\;">Viewer</span></u><span style="color:#990000\;"> <u>Discretion</u> <u>Advised</u></span>&quot\;</strong></em>) from the Miami Fox&nbsp\;news market will be here&nbsp\;in <em><strong>THE</strong></em><strong> Bookstore&nbsp\;</strong>this Sunday to interview Dana Point resident\, Anita Hughes\, as she launches her 7th&nbsp\;book\,&nbsp\;<em><strong>&quot\;<u><span style="color:#990000\;">Santorini</span></u><span style="color:#990000\;"> <u>Sunsets.</u></span>&quot\;</strong></em>&nbsp\;&nbsp\;Note this&nbsp\;event is one week earlier than our normal <strong><span style="color:#990000\;">3rd Sunday Local Author Lectures</span></strong> so as to accommodate the travel schedule of our Emmy Award-winning guest\, who is vacationing in our area.&nbsp\; <strong>Please join us in welcoming her and in congratulating Anita Hughes on the launch of her newest book.&nbsp\; </strong>And PLEASE ADD our usual&nbsp\;<strong><span style="color:#990000\;">3rd Sunday Local Author Lecture Series </span></strong>to your Sunday calendar.&nbsp\;<strong>FREE - 2:30 pm </strong>/ Reception/Book signing&nbsp\;follows lecture. Stop by and meet your neighbors who have written books and browse our Local Author section -- you might meet someone you know or recognize some local haunts that made their way into the pages of a book.</span></span>
LOCATION:The Bookstore- San Juan Capistrano Friends of the Library 31495-A El Camino Real\, San Juan Capistrano\, CA 92675
UID:e.2189.4870
SEQUENCE:3
DTSTAMP:20260426T032926Z
URL:https://business.danapointchamber.com/events/details/the-bookstore-author-interview-and-book-signing-08-14-2016-4870
END:VEVENT

END:VCALENDAR
