BEGIN:VCALENDAR
VERSION:2.0
PRODID:-//ChamberMaster//Event Calendar 2.0//EN
METHOD:PUBLISH
X-PUBLISHED-TTL:P3D
REFRESH-INTERVAL:P3D
CALSCALE:GREGORIAN
BEGIN:VEVENT
DTSTART;VALUE=DATE:20160909
DTEND;VALUE=DATE:20160911
TRANSP:TRANSPARENT
X-MICROSOFT-CDO-ALLDAYEVENT:TRUE
SUMMARY:THE OPTIMAL HEALTH & LIFESTYLE SUMMIT
DESCRIPTION:Join us at The Optimal Health and Lifestyle Summit. In this groundbreaking event\, you'll join people just like you\, to engage in a workshop that will give you the resources to create a better life balance\, understand how to live more energetically and become healthy and happy in all areas of your life.\n\n\n\nWhether your goals have been to improve your physical health\, finances\, relationships or emotional intelligence\, this workshop will be transformational.\n\n\n\nCLICK HERE for SPEAKER BIOS\, REGISTRATION LINK & MORE INFO
X-ALT-DESC;FMTTYPE=text/html:<div><span style="font-family:arial\,helvetica\,sans-serif\; font-size:12px">Join us at </span><span style="color:rgb(0\, 128\, 0)\; font-family:arial\,helvetica\,sans-serif\; font-size:12px"><strong>The Optimal Health and Lifestyle Summit</strong></span><span style="font-family:arial\,helvetica\,sans-serif\; font-size:12px">. In this groundbreaking event\,&nbsp\;you&rsquo\;ll join people just like you\, to engage in a workshop that will give you the resources to create a better </span><span style="color:black\; font-family:arial\,helvetica\,sans-serif\; font-size:12px">life </span><span style="font-family:arial\,helvetica\,sans-serif\; font-size:12px">balance\, understand how to live more energetically and become healthy and happy in&nbsp\;all areas of your life.</span></div>\n\n<div><br />\n<span style="font-size:12px"><span style="font-family:arial\,helvetica\,sans-serif"><strong><em>Whether your goals have been to improve your physical health\, finances\, relationships or emotional intelligence\, this workshop will be transformational.</em></strong></span></span><br />\n<br />\n<strong><span style="font-family:arial\,helvetica\,sans-serif\; font-size:12px"><a href="http://gregdrolet.com/?gnt_landingpage=the-optimal-health-and-lifestyle-summit"><span style="color:#0000FF"><u>CLICK HERE</u></span></a><span style="color:#0000FF"> </span>for SPEAKER BIOS\, REGISTRATION LINK &amp\; MORE INFO</span></strong><br />\n&nbsp\;</div>\n\n<div>&nbsp\;</div>\n\n<div><br />\n<span style="font-size:12px"><span style="font-family:arial\,helvetica\,sans-serif">&nbsp\;</span></span></div>\n\n<div>&nbsp\;</div>\n
LOCATION:Laguna Cliffs Resort and Spa 25135 Park Lantern Dana Point\, California 92629
UID:e.2189.4888
SEQUENCE:3
DTSTAMP:20260426T014809Z
URL:https://business.danapointchamber.com/events/details/the-optimal-health-lifestyle-summit-09-10-2016-4888
END:VEVENT

END:VCALENDAR
