BEGIN:VCALENDAR
VERSION:2.0
PRODID:-//ChamberMaster//Event Calendar 2.0//EN
METHOD:PUBLISH
X-PUBLISHED-TTL:P3D
REFRESH-INTERVAL:P3D
CALSCALE:GREGORIAN
BEGIN:VEVENT
DTSTART:20160730T020000Z
DTEND:20160731T040000Z
X-MICROSOFT-CDO-ALLDAYEVENT:FALSE
SUMMARY:The Wizard of Oz
DESCRIPTION:Experience the wonders of a place somewhere over the rainbow as Laguna Niguel Community Theatre presents a live musical production of The Wizard of Oz. This timeless tale based on L. Frank Baum's books and the classic film follows Dorothy Gale and her little dog Toto on a magical trip Over the Rainbow. Along the way\, she befriends a fantastic cast of characters  the Scarecrow\, the Tin Man\, and the Cowardly Lion. Join Dorothy and her friends in their adventures in Munchkin Land\, the Haunted Forest\, and the Emerald City. This show features the classic songs from the movie\, as composed by Harold Arlen and E.Y. Harburg\, "Over the Rainbow\," "Ding Dong the Witch is Dead" and "If I Only Had A Brain\," along with new songs for this special production. The Wizard of Oz will have the entire family captivated. Join us for an unforgettable evening at the theatre.
X-ALT-DESC;FMTTYPE=text/html:Experience the wonders of a place somewhere over the rainbow as Laguna Niguel Community Theatre presents a live musical production of The Wizard of Oz. This timeless tale based on L. Frank Baum&rsquo\;s books and the classic film follows Dorothy Gale and her little dog Toto on a magical trip Over the Rainbow. Along the way\, she befriends a fantastic cast of characters &ndash\;the Scarecrow\, the Tin Man\, and the Cowardly Lion. Join Dorothy and her friends in their adventures in Munchkin Land\, the Haunted Forest\, and the Emerald City. This show features the classic songs from the movie\, as composed by Harold Arlen and E.Y. Harburg\, &ldquo\;Over the Rainbow\,&rdquo\; &ldquo\;Ding Dong the Witch is Dead&rdquo\; and &ldquo\;If I Only Had A Brain\,&rdquo\; along with new songs for this special production. The Wizard of Oz will have the entire family captivated. Join us for an unforgettable evening at the theatre.
LOCATION:Sea Country Senior & Community Center 24602 Aliso Creek Road Laguna Niguel\, CA 92677
UID:e.2189.4846
SEQUENCE:3
DTSTAMP:20260419T183312Z
URL:https://business.danapointchamber.com/events/details/the-wizard-of-oz-07-29-2016-4846
END:VEVENT

END:VCALENDAR
