BEGIN:VCALENDAR
VERSION:2.0
PRODID:-//ChamberMaster//Event Calendar 2.0//EN
METHOD:PUBLISH
X-PUBLISHED-TTL:P3D
REFRESH-INTERVAL:P3D
CALSCALE:GREGORIAN
BEGIN:VEVENT
DTSTART:20240218T190000Z
DTEND:20240218T210000Z
X-MICROSOFT-CDO-ALLDAYEVENT:FALSE
SUMMARY:Valentine's Brunch & Harbor Cruise
DESCRIPTION:Give your Valentine a relaxing 2-hour Dana Point Harbor cruise featuring a catered brunch with juice & coffee\, unlimited mimosas or Champagne\, and live music. \n\n\n\nFor more information and tickets\, visit the website
X-ALT-DESC;FMTTYPE=text/html:<br />\n<span style="color:#000000\;"><span style="font-family:verdana\;"><span style="font-size:14px\;">Give your Valentine a relaxing 2-hour Dana Point Harbor cruise featuring a catered brunch with juice &amp\; coffee\, unlimited mimosas or Champagne\, and live music.&nbsp\;<br />\n<br />\nFor more information and tickets\, <a href="https://www.dolphinsafari.com/valentines-brunch/">visit the website</a></span></span></span><br />\n&nbsp\;
LOCATION:Capt. Dave's Dolphin & Whale Watching Safari 24440 Dana Point Harbor Drive Dana Point\, CA 92629
UID:e.2189.14759
SEQUENCE:3
DTSTAMP:20260424T054508Z
URL:https://business.danapointchamber.com/events/details/valentine-s-brunch-harbor-cruise-14759
END:VEVENT

END:VCALENDAR
