BEGIN:VCALENDAR
VERSION:2.0
PRODID:-//ChamberMaster//Event Calendar 2.0//EN
METHOD:PUBLISH
X-PUBLISHED-TTL:P3D
REFRESH-INTERVAL:P3D
CALSCALE:GREGORIAN
BEGIN:VEVENT
DTSTART;VALUE=DATE:20170211
DTEND;VALUE=DATE:20170212
TRANSP:TRANSPARENT
X-MICROSOFT-CDO-ALLDAYEVENT:TRUE
SUMMARY:Valentine's Cruises at Dana Wharf
DESCRIPTION:Valentine's Weekend Cruises with Dana Wharf!  Join us for Whale Watching romance style with these sweet deals! \n\n\n\nFebruary 10th & 11th from 4pm to 6pm \n\nWhale Watching on the Dana Pride \n\n\n	Enjoy a complimentary glass of Champagne or sparkling cider while we gaze at the beautiful sunset and look for marine life.\n\n\nFebruary 11th & 12th from 10am\, 12 noon & 2pm\n\n2 Hour Whale Watching Trips on the Dana Pride \n\n\n	Enjoy a complimentary glass of Champagne or sparkling cider \n\n\nValentine's Day from 4pm to 6pm\n\nSunset Cruise on the Dana Pride (21 & Over)\n\n\n	Whale watch during a romantic sunset.  Enjoy complimentary chocolate treats and bottomless Champagne \n\n\nValentine's Day from 5:30pm to 7pm\n\nSparkling Wine Tasting Cruise (21 &Over)\n\n\n	Join us on a sparkling wine tasting harbor cruise on the luxurious catamaran OCean Adventures.  Four organic sparkling wine tastes and a chocolate bar are included.
X-ALT-DESC;FMTTYPE=text/html:<p><strong><span style="color:#FF0000\;"><span style="font-family:arial\;"><span style="font-size:14px\;">Valentine&#39\;s Weekend Cruises with Dana Wharf! &nbsp\;Join us for Whale Watching romance style with these sweet deals!&nbsp\;</span></span></span></strong><br />\n<br />\n<span style="color:#000000\;"><span style="font-size:14px\;"><strong>February 10th&nbsp\;&amp\; 11th&nbsp\;from 4pm to 6pm&nbsp\;<br />\nWhale Watching on the Dana Pride</strong>&nbsp\;</span></span></p>\n\n<ul>\n	<li><span style="font-size:14px\;"><span style="color:#000000\;">Enjoy a complimentary glass of Champagne or sparkling cider while we gaze at the beautiful sunset and look for marine life.</span></span></li>\n</ul>\n\n<p><span style="font-size:14px\;"><span style="color:#000000\;"><strong>February 11th &amp\; 12th&nbsp\;from 10am\, 12 noon &amp\; 2pm<br />\n2 Hour Whale Watching Trips on the Dana Pride&nbsp\;</strong></span></span></p>\n\n<ul>\n	<li><span style="font-size:14px\;"><span style="color:#000000\;">Enjoy a complimentary glass of Champagne or sparkling cider&nbsp\;</span></span></li>\n</ul>\n\n<p><span style="font-size:14px\;"><span style="color:#000000\;"><strong>Valentine&#39\;s Day from 4pm to 6pm<br />\nSunset Cruise on the Dana Pride (21 &amp\; Over)</strong></span></span></p>\n\n<ul>\n	<li><span style="font-size:14px\;"><span style="color:#000000\;">Whale watch during a romantic sunset. &nbsp\;Enjoy complimentary chocolate treats and bottomless Champagne&nbsp\;</span></span></li>\n</ul>\n\n<p><span style="font-size:14px\;"><span style="color:#000000\;"><strong>Valentine&#39\;s Day from 5:30pm to 7pm<br />\nSparkling Wine Tasting Cruise (21 &amp\;Over)</strong></span></span></p>\n\n<ul>\n	<li><span style="font-size:14px\;"><span style="color:#000000\;">Join us on a sparkling wine tasting harbor cruise on the luxurious catamaran OCean Adventures. &nbsp\;Four organic sparkling wine tastes and a chocolate bar are included.</span></span></li>\n</ul>\n\n<p><br />\n&nbsp\;</p>\n
LOCATION:Dana Wharf 34675 Golden Lantern Dana Point\, CA 92629
UID:e.2189.5165
SEQUENCE:3
DTSTAMP:20260425T200702Z
URL:https://business.danapointchamber.com/events/details/valentine-s-cruises-at-dana-wharf-5165
END:VEVENT

END:VCALENDAR
