BEGIN:VCALENDAR
VERSION:2.0
PRODID:-//ChamberMaster//Event Calendar 2.0//EN
METHOD:PUBLISH
X-PUBLISHED-TTL:P3D
REFRESH-INTERVAL:P3D
CALSCALE:GREGORIAN
BEGIN:VEVENT
DTSTART:20141111T180000Z
DTEND:20141111T200000Z
X-MICROSOFT-CDO-ALLDAYEVENT:FALSE
SUMMARY:Veteran's Day Ceremony
DESCRIPTION:Dana Point Veterans of Foreign Wars Post 9934 and Ladies Auxiliary and the City of Dana Point recognize all Veterans for their service and sacrifices for America.  For more information\, 949-248-7696 or visit http://www.vfwpost9934.org/
X-ALT-DESC;FMTTYPE=text/html:<span style="font-size:14px\;"><span style="font-family:arial\;"><span style="line-height: 20px\;">Dana Point Veterans of Foreign Wars Post 9934 and Ladies Auxiliary and the City of Dana Point recognize all Veterans for their service and sacrifices for America.&nbsp\; For more information\, 949-248-7696 or visit&nbsp\;</span><a href="http://www.vfwpost9934.org/"><u><span style="color:#0000FF\;">http://www.vfwpost9934.org/</span></u></a></span></span>
LOCATION:Strands Vista Park 34201 Selva Road Dana Point\, California 92629
UID:e.2189.556
SEQUENCE:3
DTSTAMP:20260424T000927Z
URL:https://business.danapointchamber.com/events/details/veteran-s-day-ceremony-11-11-2014-556
END:VEVENT

END:VCALENDAR
