BEGIN:VCALENDAR
VERSION:2.0
PRODID:-//ChamberMaster//Event Calendar 2.0//EN
METHOD:PUBLISH
X-PUBLISHED-TTL:P3D
REFRESH-INTERVAL:P3D
CALSCALE:GREGORIAN
BEGIN:VEVENT
DTSTART:20150210T213000Z
DTEND:20150210T233000Z
X-MICROSOFT-CDO-ALLDAYEVENT:FALSE
SUMMARY:VFW Benefit Services
DESCRIPTION:Dana Point VFW Post 9934 is now providing Veterans assistance on the 2nd Tuesday of every month at the Dana Point Community Center. The Post will provide assistance and answer questions for: \n\n    Veterans Benefits\n\n    Veterans Services\n\n    VFW Membership\n\n    and more......
X-ALT-DESC;FMTTYPE=text/html:Dana Point VFW Post 9934 is now providing Veterans assistance on the 2nd Tuesday of every month at the Dana Point Community Center. The Post will provide assistance and answer questions for:&nbsp\;<br />\n&nbsp\; &nbsp\; Veterans Benefits<br />\n&nbsp\; &nbsp\; Veterans Services<br />\n&nbsp\; &nbsp\; VFW Membership<br />\n&nbsp\; &nbsp\; and more......
LOCATION:City of Dana Point Community Center 34052 Del Obispo Street Dana Point. CA 92629
UID:e.2189.2060
SEQUENCE:3
DTSTAMP:20260425T193041Z
URL:https://business.danapointchamber.com/events/details/vfw-benefit-services-02-10-2015-2060
END:VEVENT

END:VCALENDAR
