BEGIN:VCALENDAR
VERSION:2.0
PRODID:-//ChamberMaster//Event Calendar 2.0//EN
METHOD:PUBLISH
X-PUBLISHED-TTL:P3D
REFRESH-INTERVAL:P3D
CALSCALE:GREGORIAN
BEGIN:VEVENT
DTSTART;VALUE=DATE:20161022
DTEND;VALUE=DATE:20161023
TRANSP:TRANSPARENT
X-MICROSOFT-CDO-ALLDAYEVENT:TRUE
SUMMARY:Walk4ALZ - Laguna Niguel Park
DESCRIPTION:Walk4ALZ is Orange County's largest fundraising event for Alzheimer's and other forms of dementia.  Every year\, over 12\,000 people participate in our Walks.  Thanks to the incredible support and participation of our community\, our events have grown more successful year after year.\n\nOver 84\,000 people in Orange County are affected by Alzheimer's or another form of dementia.  There is currently no way to prevent\, treat or cure Alzheimer's\, and it is a disease that not only affects the diagnosed individual\, but one that also takes a heavy toll on those who love and care for them.  The Alzheimer's Orange County team is committed to serving families as they face this difficult journey\, while helping to advance local research for a cure.
X-ALT-DESC;FMTTYPE=text/html:Walk4ALZ is Orange County&#39\;s largest fundraising event for Alzheimer&#39\;s and other forms of dementia. &nbsp\;Every year\, over 12\,000 people participate in our Walks. &nbsp\;Thanks to the incredible support and participation of our community\, our events have grown more successful year after year.<br />\nOver 84\,000 people in Orange County are affected by Alzheimer&#39\;s or another form of dementia. &nbsp\;There is currently no way to prevent\, treat or cure Alzheimer&#39\;s\, and it is a disease that not only affects the diagnosed individual\, but one that also takes a heavy toll on those who love and care for them. &nbsp\;The Alzheimer&#39\;s Orange County team is committed to serving families as they face this difficult journey\, while helping to advance local research for a cure.&nbsp\;
LOCATION:Laguna Niguel Regional Park 28241 La Paz Road Laguna Niguel\, CA 92677
UID:e.2189.4818
SEQUENCE:3
DTSTAMP:20260426T003514Z
URL:https://business.danapointchamber.com/events/details/walk4alz-laguna-niguel-park-10-22-2016-4818
END:VEVENT

END:VCALENDAR
