BEGIN:VCALENDAR
VERSION:2.0
PRODID:-//ChamberMaster//Event Calendar 2.0//EN
METHOD:PUBLISH
X-PUBLISHED-TTL:P3D
REFRESH-INTERVAL:P3D
CALSCALE:GREGORIAN
BEGIN:VEVENT
DTSTART:20150613T160000Z
DTEND:20150613T180000Z
X-MICROSOFT-CDO-ALLDAYEVENT:FALSE
SUMMARY:Whale Walk and Talk
DESCRIPTION:
X-ALT-DESC;FMTTYPE=text/html:
LOCATION:Nature Interpretive Center 34558 Scenic Drive Dana Point\, CA\, California 92629
UID:e.2189.2697
SEQUENCE:3
DTSTAMP:20260422T101236Z
URL:https://business.danapointchamber.com/events/details/whale-walk-and-talk-06-13-2015-2697
END:VEVENT

END:VCALENDAR
